Workbook
Name _con1: #REF!
Name _con11: #REF!
Name _con2: #REF!
Name _con3: #REF!
Name _con4: #REF!
Name _fws1: #N/A
Name _rb1: #N/A
Name _sb1: #N/A
Name _sd30: #REF!
Name _sd40: #REF!
Name _st1: #REF!
Name _st2: #REF!
Name _st3: #REF!
Name _wb1: #N/A
Name aa: #REF!
Name AB: '[1]12 ข้อมูลงานไม้แบบ'!$W$29
Name AC: #REF!
Name bb: #REF!
Name ce: #REF!
Name con: #REF!
Name D: #REF!
Name F: #REF!
Name F: #REF!
Name F: #REF!
Name f_bridge: '[2]F(ของเรา)'!$G$27
Name F_road: '[2]F(ของเรา)'!$G$26
Name ff: '[3]F(ของเรา)'!$G$27
Name fff: '[4]11 ข้อมูลงานCon'!$AB$30
Name FWS: '[5]11 ข้อมูลงานCon'!$AB$30
Name FWSS: '[5]11 ข้อมูลงานCon'!$AB$30
Name fกรรมการ: #REF!
Name fกรรมการ: #REF!
Name fกรรมการ: #REF!
Name ITEM1.1: #REF!
Name ITEM1.2: #REF!
Name ITEM1.3.1: #REF!
Name ITEM1.3.2: #REF!
Name ITEM1.3.3: #REF!
Name ITEM1.3.4: #REF!
Name ITEM1.3.5: #REF!
Name ITEM1.3.6: #REF!
Name ITEM1.3.7: #REF!
Name ITEM1.3.8: #REF!
Name ITEM1.4.1: #REF!
Name ITEM1.5: #REF!
Name ITEM1.5: #REF!
Name ITEM1.5: #REF!
Name ITEM2.1: #REF!
Name ITEM2.2.1: #REF!
Name ITEM2.2.2: #REF!
Name ITEM2.2.2: #REF!
Name ITEM2.2.2: #REF!
Name ITEM2.2.3: #REF!
Name ITEM2.2.3: #REF!
Name ITEM2.2.3: #REF!
Name ITEM2.2.3.4: '[6]41.EXCAVATION'!#REF!
Name ITEM2.2.3.4: '[6]41.EXCAVATION'!#REF!
Name ITEM2.2.3.4: '[6]41.EXCAVATION'!#REF!
Name ITEM2.2.4: #REF!
Name ITEM2.2.5: #REF!

Sheet ปก
A3: มหาวิทยาลัยราชภัฏนครศรีธรรมราช
A4: รายการประมาณราคา
A5: โครงการปรับปรุงพื้นที่ให้บริการ อาคาร 15 ศูนย์วิทยบริการ (หอสมุดกลาง) ชั้น 1-6

Sheet ปร.6
A1: แบบสรุปราคากลางงานก่อสร้างอาคาร
A2: รายการประมาณราคาก่อสร้าง โครงการปรับปรุงพื้นที่ให้บริการ อาคาร 15 ศูนย์วิทยบริการ (หอสมุดกลาง) ชั้น 1-6
A3: เจ้าของอาคาร สำนักวิทยบริการและเทคโนโลยีสารสนเทศ มหาวิทยาลัยราชภัฏนครศรีธรรมราช
A4: สถานที่ก่อสร้าง อาคาร 15 ศูนย์วิทยบริการ (หอสมุดกลาง) มหาวิทยาลัยราชภัฏนครศรีธรรมราช
A5: แบบ ปร. 4 และ ปร. 5 ที่แนบ จำนวน 20 แผ่น
A6: ประมาณการเมื่อ วันที่ 21 มกราคม 2568
A8: ลำดับที่ | B8: รายการ | C8: ค่าก่อสร้าง | D8: หมายเหตุ
C9: (บาท)
A10: 1 | B10: ='ปร.5 (ก)'!B12 -> งานสถาปัตย์ | C10: =SUM('ปร.5 (ก)'!C12) -> 3919743.3
A11: 2 | B11: ='ปร.5 (ก)'!B13 -> งานระบบไฟฟ้า | C11: =SUM('ปร.5 (ก)'!C13) -> 425030
A12: 3 | B12: ='ปร.5 (ก)'!B14 -> งานสุขภัณฑ์ | C12: =SUM('ปร.5 (ก)'!C14) -> 149031.25
B14: รวมราคางานก่อสร้าง | C14: =SUM('ปร.4 ก่อสร้าง'!I318) -> 4493804.5
B15: Factor F (1.3020) | C15: =C14*0.302 -> 1357129
A16: 4 | B16: ค่าใช้จ่ายพิเศษตามข้อกำหนด | C16: ='ปร.4 ก่อสร้าง'!I336 -> 72230
A17: 5 | B17: งานครุภัณฑ์ | C17: =SUM('ปร.5 (ข)'!C11) -> 5369983.6
B18: VAT 7% | C18: =C17*0.07 -> 375898.85
A19: สรุป | B19: รวมทั้งสิ้นค่าก่อสร้างทั้งโครงการ | C19: =SUM(C14:C18) -> 11669046
B20: ราคากลาง | C20: 11669000
A21: ตัวอักษร : | B21: =BAHTTEXT(C20) -> สิบเอ็ดล้านหกแสนหกหมื่นเก้าพันบาทถ้วน

Sheet ปร.5 (ก)
A1: สรุปผลการประมาณราคาค่าก่อสร้าง
A2: ส่วนราชการ มหาวิทยาลัยราชภัฏนครศรีธรรมราช
A3: รายการประมาณราคาก่อสร้าง โครงการปรับปรุงพื้นที่ให้บริการ อาคาร 15 ศูนย์วิทยบริการ (หอสมุดกลาง) ชั้น 1-6
A4: เจ้าของอาคาร สำนักวิทยบริการและเทคโนโลยีสารสนเทศ มหาวิทยาลัยราชภัฏนครศรีธรรมราช
A5: สถานที่ก่อสร้าง อาคาร 15 ศูนย์วิทยบริการ (หอสมุดกลาง) มหาวิทยาลัยราชภัฏนครศรีธรรมราช
A6: ประมาณราคาตามแบบ ปร. 4 จำนวน 16 แผ่น
A7: ประมาณการเมื่อ วันที่ 21 มกราคม 2568
A9: ลำดับที่ | B9: รายการ | C9: ค่าวัสดุและค่าแรงงาน | D9: FACTOR F | E9: ค่าก่อสร้างทั้งหมด | F9: หมายเหตุ
C10: รวมเป็นเงิน (บาท) | E10: รวมเป็นเงิน (บาท)
B11: งานสถาปัตย์ | D11: 1.302
A12: 1 | B12: งานสถาปัตย์ | C12: =SUM('ปร.4 ก่อสร้าง'!I185) -> 3919743.3 | E12: =C12*D11 -> 5103505.8
A13: 2 | B13: งานระบบไฟฟ้า | C13: ='ปร.4 ก่อสร้าง'!I305 -> 425030 | E13: =C13*D11 -> 553389.06
A14: 3 | B14: ='ปร.4 ก่อสร้าง'!B307 -> งานสุขภัณฑ์ | C14: ='ปร.4 ก่อสร้าง'!I316 -> 149031.25 | E14: =C14*D11 -> 194038.69
B16: เงื่อนไขการใช้ตาราง Factor F
B17: เงินล่วงหน้าจ่าย 0 %
B18: เงินประกันผลงานหัก 0 %
B19: ดอกเบี้ยเงินกู้ 7 %
B20: ค่าภาษีมูลค่าเพิ่ม (VAT) 7 %
A21: รวมทั้งสิ้น | E21: =SUM(E11:E20) -> 5850933.5
A22: ตัวอักษร | B22: =BAHTTEXT(E21) -> ห้าล้านแปดแสนห้าหมื่นเก้าร้อยสามสิบสามบาทห้าสิบสตางค์
B23: ขนาดเนื้อที่ก่อสร้างอาคาร | C23: 0 | D23: ตร.ม.
B24: เฉลี่ยราคาประมาณ | C24: 0 | D24: บาท / ตร.ม.

Sheet ปร.5 (ข)
A1: สรุปค่าครุภัณฑ์จัดซื้อ
A2: ส่วนราชการ มหาวิทยาลัยราชภัฏนครศรีธรรมราช
A3: รายการประมาณราคาก่อสร้าง โครงการปรับปรุงพื้นที่ให้บริการ อาคาร 15 ศูนย์วิทยบริการ (หอสมุดกลาง) ชั้น 1-6
A4: เจ้าของอาคาร สำนักวิทยบริการและเทคโนโลยีสารสนเทศ มหาวิทยาลัยราชภัฏนครศรีธรรมราช
A5: สถานที่ก่อสร้าง อาคาร 15 ศูนย์วิทยบริการ (หอสมุดกลาง) มหาวิทยาลัยราชภัฏนครศรีธรรมราช
A6: ประมาณราคาตามแบบ ปร. 4 จำนวน 16 แผ่น
A7: ประมาณการเมื่อ วันที่ 21 มกราคม 2568
A9: ลำดับที่ | B9: รายการ | C9: ค่าวัสดุและค่าแรงงาน | D9: ภาษี | E9: ค่าก่อสร้างทั้งหมด | F9: หมายเหตุ
C10: รวมเป็นเงิน (บาท) | D10: มูลค่าเพิ่ม | E10: รวมเป็นเงิน (บาท)
A11: 1 | B11: ประเภทงานครุภัณฑ์ | C11: =SUM(งานครุภันฑ์!I95) -> 5369983.6 | D11: 1.07 | E11: =C11*D11 -> 5745882.4
B18: รวมทั้งสิ้น | E18: =SUM(E11:E17) -> 5745882.4
A19: ตัวอักษร | B19: =BAHTTEXT(E18) -> ห้าล้านเจ็ดแสนสี่หมื่นห้าพันแปดร้อยแปดสิบสองบาทสี่สิบสองสตางค์
B20: ขนาด | C20: 0 | D20: ตร.ม.
B21: เฉลี่ยราคาประมาณ | C21: 0 | D21: บาท / ตร.ม.

Sheet ค่าใช้จ่ายพิเศษ
A1: ตารางการประมาณราคาค่าก่อสร้างของงานอาคาร
A2: ส่วนที่ 2 ค่าใช้จ่ายพิเศษตามข้อกำหนด (ถ้ามี)
A3: รายการประมาณราคาก่อสร้าง โครงการปรับปรุงพื้นที่ให้บริการ อาคาร 15 ศูนย์วิทยบริการ (หอสมุดกลาง) ชั้น 1-6
A4: สถานที่ก่อสร้าง อาคาร 15 ศูนย์วิทยบริการ (หอสมุดกลาง) มหาวิทยาลัยราชภัฏนครศรีธรรมราช
A5: ประมาณการเมื่อ วันที่ 21 มกราคม 2568
A7: ลำดับที่ | B7: รายการ | C7: รวมเป็นเงิน (บาท) | D7: หมายเหตุ
A8: 1 | B8: หมวดค่าใช้จ่ายพิเศษ ตามข้อกำหนดเงื่อนไขและความจำเป็นต้องมี
A9: 1.1 | B9: การกำหนดคุณสมบัติของผู้ปฏิบัติงาน หรือคุมการก่อสร้างพิเศษเฉพาะ
A10: 1.2 | B10: การกำหนดให้ใช้นั่งร้านและให้ความปลอดภัยต่อคนงานก่อสร้างตามกฎหมายแรงงาน
A11: 1.3 | B11: การทำ BENCH MSRK สำหรับตรวจเช็คระดับมาตรฐาน
A12: 1.4 | B12: การทดสอบการทรุดตัวของอาคารขณะก่อสร้างเป็นระยะ ๆ
A13: 1.5 | B13: การทำให้อาคารบางส่วนให้เสร็จเพื่อเข้าไปใช้สอยก่อนเสร็จทั้งโครงการ
A14: 1.6 | B14: การกำหนดให้ทำแผนงานก่อสร้างละเอียดด้วยระบบ C.P.M
A15: 1.7 | B15: การจัดสร้างสำนักงานสนาม สำหรับผู้ว่าจ้างหรือผู้ควบคุมงาน
A16: 1.8 | B16: การทำระบบป้องกันฝุ่นตามข้อบังคับ
A17: 1.9 | B17: การทำระบบป้องกันดินพัง
A18: 1.1 | B18: การใช้จ่ายสำหรับอุปกรณ์เครื่องจักรกลพิเศษในการก่อสร้าง เช่น TOWER CRANE เป็นต้น
A19: 1.11 | B19: การใช้จ่ายกรณีไม่อนุญาตให้คนงานพักในบริเวณที่ก่อสร้าง
... A21: 1.13 | B21: อื่น ๆ ถ้ามีให้ระบุ
B22: รายการครุภัณฑ์ที่ต้องเคลื่อนย้ายติดตั้งบริการชั่วคราว และนำกลับติดตั้งในอาคารตามแบบแปลนจัดวางใหม่ | C22: =SUM('ปร.4 ก่อสร้าง'!I336) -> 72230
B24: รวมค่าใช้จ่ายพิเศษ (ตามข้อกำหนดเงื่อนไขและความจำเป็นต้องมี) | C24: =SUM(C8:C24) -> 72230

Sheet ปร.4 ก่อสร้าง
A1: ราคาหมวดก่อสร้าง
A2: รายการประมาณราคาก่อสร้าง โครงการปรับปรุงพื้นที่ให้บริการ อาคาร 15 ศูนย์วิทยบริการ (หอสมุดกลาง) ชั้น 1-6
A3: เจ้าของอาคาร สำนักวิทยบริการและเทคโนโลยีสารสนเทศ มหาวิทยาลัยราชภัฏนครศรีธรรมราช
A4: สถานที่ก่อสร้าง อาคาร 15 ศูนย์วิทยบริการ (หอสมุดกลาง) มหาวิทยาลัยราชภัฏนครศรีธรรมราช
A5: ประมาณการเมื่อ วันที่ 21 มกราคม 2568
A7: ลำดับที่ | B7: รายการ | C7: จำนวน | D7: หน่วย | E7: ราคาวัสดุสิ่งของ | G7: ค่าแรงงาน | I7: ค่าวัสดุ | J7: หมายเหตุ
E8: ราคาต่อหน่วย | F8: จำนวนเงิน | G8: ราคาต่อหน่วย | H8: จำนวนเงิน | I8: และแรงงาน
B9: งานสถาปัตย์
A10: 1 | B10: งานรื้อถอน
B11: ชั้น 1
A12: 1 | B12: - โต๊ะ (รื้อขนกองเก็บ) | C12: 57 | D12: ชุด | E12: 0 | F12: =E12*C12 -> 0 | G12: 60 | H12: =G12*C12 -> 3420 | I12: =H12+F12 -> 3420
A13: 2 | B13: - เก้าอี้ (รื้อขนกองเก็บ) | C13: 73 | D13: ชุด | E13: 0 | F13: =E13*C13 -> 0 | G13: 30 | H13: =G13*C13 -> 2190 | I13: =H13+F13 -> 2190
A14: 3 | B14: - ชั้นวางหนังสือ,ลิ้นชัก (รื้อขนกองเก็บ) | C14: 17 | D14: ชุด | E14: 0 | F14: =E14*C14 -> 0 | G14: 180 | H14: =G14*C14 -> 3060 | I14: =H14+F14 -> 3060
B15: - ชั้นวางหนังสือ (เคลื่อนย้าย-จัดวางใหม่) | C15: 30 | D15: ชุด | E15: 0 | F15: =E15*C15 -> 0 | G15: 60 | H15: =G15*C15 -> 1800 | I15: =H15+F15 -> 1800
A16: 4 | B16: - ชุดบาร์คอมพิวเตอร์ (รื้อขนกองเก็บ) | C16: 3 | D16: ชุด | E16: 0 | F16: =E16*C16 -> 0 | G16: 60 | H16: =G16*C16 -> 180 | I16: =H16+F16 -> 180
A17: 5 | B17: - ชุดคอมพิวเตอร์เดิม (เคลื่อนย้าย-จัดเก็บ) | C17: 24 | D17: ชุด | E17: 0 | F17: =E17*C17 -> 0 | G17: 60 | H17: =G17*C17 -> 1440 | I17: =H17+F17 -> 1440
A18: 6 | B18: - ชุดโซฟา (รื้อขนกองเก็บ) | C18: 1 | D18: ชุด | E18: 0 | F18: =E18*C18 -> 0 | G18: 60 | H18: =G18*C18 -> 60 | I18: =H18+F18 -> 60
A19: 7 | B19: - ผนังตกเเต่งเดิม (รื้อขนไป) | C19: 1 | D19: ชุด | E19: 0 | F19: =E19*C19 -> 0 | G19: =(6*3)*30 -> 540 | H19: =G19*C19 -> 540 | I19: =H19+F19 -> 540
A20: 8 | B20: - ชุดเคาน์เตอร์บริการยืมคืนและฝ้า Built-in เดิม (รื้อขนไป) | C20: 1 | D20: ชุด | E20: 0 | F20: =E20*C20 -> 0 | G20: 1600 | H20: =G20*C20 -> 1600 | I20: =H20+F20 -> 1600
A21: 9 | B21: - เครื่องปริ้น Double A (เคลื่อนย้าย-จัดเก็บ) | C21: 1 | D21: ชุด | E21: 0 | F21: =E21*C21 -> 0 | G21: 100 | H21: =G21*C21 -> 100 | I21: =H21+F21 -> 100
B22: ชั้น 2
A23: 1 | B23: - โต๊ะ (รื้อขนกองเก็บ) | C23: 46 | D23: ชุด | E23: 0 | F23: =E23*C23 -> 0 | G23: 60 | H23: =G23*C23 -> 2760 | I23: =H23+F23 -> 2760
A24: 2 | B24: - เก้าอี้ (รื้อขนกองเก็บ) | C24: 89 | D24: ชุด | E24: 0 | F24: =E24*C24 -> 0 | G24: 30 | H24: =G24*C24 -> 2670 | I24: =H24+F24 -> 2670
A25: 3 | B25: - ชั้นวางหนังสือ,ลิ้นชัก (รื้อขนกองเก็บ) | C25: 6 | D25: ชุด | E25: 0 | F25: =E25*C25 -> 0 | G25: 180 | H25: =G25*C25 -> 1080 | I25: =H25+F25 -> 1080
A26: 4 | B26: - ชุดบาร์คอมพิวเตอร์ (รื้อขนกองเก็บ) | C26: 3 | D26: ชุด | E26: 0 | F26: =E26*C26 -> 0 | G26: 60 | H26: =G26*C26 -> 180 | I26: =H26+F26 -> 180
A27: 5 | B27: - ชุดคอมพิวเตอร์เดิม (เคลื่อนย้าย-จัดเก็บ) | C27: 4 | D27: ชุด | E27: 0 | F27: =E27*C27 -> 0 | G27: 60 | H27: =G27*C27 -> 240 | I27: =H27+F27 -> 240
A28: 6 | B28: - ชุดโซฟา (รื้อขนกองเก็บ) | C28: 1 | D28: ชุด | E28: 0 | F28: =E28*C28 -> 0 | G28: 60 | H28: =G28*C28 -> 60 | I28: =H28+F28 -> 60
A29: 7 | B29: - ผนังตกเเต่งเดิม (รื้อขนไป) | C29: 2 | D29: ชุด | E29: 0 | F29: =E29*C29 -> 0 | G29: =(6*3)*30 -> 540 | H29: =G29*C29 -> 1080 | I29: =H29+F29 -> 1080
A30: 8 | B30: - ชุดเคาน์เตอร์เดิม (รื้อขนกองเก็บ) | C30: 1 | D30: ชุด | E30: 0 | F30: 0 | G30: 220 | H30: =G30*C30 -> 220 | I30: =H30+F30 -> 220
A31: 9 | B31: - ชุดสุขภัณฑ์นั่งยอง (รื้อขนไป) | C31: 3 | D31: ชุด | E31: 0 | F31: =E31*C31 -> 0 | G31: 140 | H31: =G31*C31 -> 420 | I31: =H31+F31 -> 420
A32: 10 | B32: - สายฉีดชำระ (รื้อขนไป) | C32: 3 | D32: ชุด | E32: 0 | F32: =E32*C32 -> 0 | G32: 35 | H32: =G32*C32 -> 105 | I32: =H32+F32 -> 105
A33: 11 | B33: - อ่างน้ำหินขัด (รื้อขนไป) | C33: 3 | D33: ชุด | E33: 0 | F33: =E33*C33 -> 0 | G33: 50 | H33: =G33*C33 -> 150 | I33: =H33+F33 -> 150
A34: 12 | B34: - ก๊อกล้างพื้น (รื้อขนไป) | C34: 3 | D34: ชุด | E34: 0 | F34: =E34*C34 -> 0 | G34: 25 | H34: =G34*C34 -> 75 | I34: =H34+F34 -> 75
A35: 13 | B35: - ที่ใส่กระดาษชำระ (รื้อขนไป) | C35: 3 | D35: ชุด | E35: 0 | F35: =E35*C35 -> 0 | G35: 35 | H35: =G35*C35 -> 105 | I35: =H35+F35 -> 105
A36: 14 | B36: - ชุดอ่างล้างหน้าเเละก็อกน้ำ (รื้อขนไป) | C36: 4 | D36: ชุด | E36: 0 | F36: =E36*C36 -> 0 | G36: 250 | H36: =G36*C36 -> 1000 | I36: =H36+F36 -> 1000
A37: 15 | B37: - ชุดกระจก (รื้อขนไป) | C37: 4 | D37: ชุด | E37: 0 | F37: =E37*C37 -> 0 | G37: 30 | H37: =G37*C37 -> 120 | I37: =H37+F37 -> 120
A38: 16 | B38: - ชุดขาและกระจกบานเกล็ดเดิม Ex-W10 (รื้อขนไป) (ไม่รวมช่องที่ติดพัดลมดูดอากาศ) | C38: 2 | D38: ชุด | E38: 0 | F38: =E38*C38 -> 0 | G38: 100 | H38: =G38*C38 -> 200 | I38: =H38+F38 -> 200
A39: 17 | B39: - พื้นกระเบื้องยาง | C39: 486 | D39: ตร.ม. | E39: 0 | F39: =E39*C39 -> 0 | G39: 15 | H39: =G39*C39 -> 7290 | I39: =H39+F39 -> 7290
B40: ชั้น 3
A41: 1 | B41: - โต๊ะ (รื้อขนกองเก็บ) | C41: 51 | D41: ชุด | E41: 0 | F41: =E41*C41 -> 0 | G41: 60 | H41: =G41*C41 -> 3060 | I41: =H41+F41 -> 3060
A42: 2 | B42: - เก้าอี้ (รื้อขนกองเก็บ) | C42: 98 | D42: ชุด | E42: 0 | F42: =E42*C42 -> 0 | G42: 30 | H42: =G42*C42 -> 2940 | I42: =H42+F42 -> 2940
A43: 3 | B43: - ชั้นวางหนังสือ,ลิ้นชัก (รื้อขนกองเก็บ) | C43: 10 | D43: ชุด | E43: 0 | F43: =E43*C43 -> 0 | G43: 180 | H43: =G43*C43 -> 1800 | I43: =H43+F43 -> 1800
A44: 4 | B44: - ชุดบาร์คอมพิวเตอร์ (รื้อขนกองเก็บ) | C44: 3 | D44: ชุด | E44: 0 | F44: =E44*C44 -> 0 | G44: 60 | H44: =G44*C44 -> 180 | I44: =H44+F44 -> 180
A45: 5 | B45: - ชุดคอมพิวเตอร์เดิม (เคลื่อนย้าย-จัดเก็บ) | C45: 4 | D45: ชุด | E45: 0 | F45: =E45*C45 -> 0 | G45: 60 | H45: =G45*C45 -> 240 | I45: =H45+F45 -> 240
A46: 6 | B46: - ชุดโซฟา (รื้อขนกองเก็บ) | C46: 1 | D46: ชุด | E46: 0 | F46: =E46*C46 -> 0 | G46: 60 | H46: =G46*C46 -> 60 | I46: =H46+F46 -> 60
A47: 7 | B47: - ผนังตกเเต่งเดิม (รื้อขนไป) | C47: 2 | D47: ชุด | E47: 0 | F47: =E47*C47 -> 0 | G47: =(6*3)*30 -> 540 | H47: =G47*C47 -> 1080 | I47: =H47+F47 -> 1080
A48: 8 | B48: - ชุดสุขภัณฑ์นั่งยอง (รื้อขนไป) | C48: 3 | D48: ชุด | E48: 0 | F48: =E48*C48 -> 0 | G48: 140 | H48: =G48*C48 -> 420 | I48: =H48+F48 -> 420
A49: 9 | B49: - สายฉีดชำระ (รื้อขนไป) | C49: 3 | D49: ชุด | E49: 0 | F49: =E49*C49 -> 0 | G49: 35 | H49: =G49*C49 -> 105 | I49: =H49+F49 -> 105
A50: 10 | B50: - อ่างน้ำหินขัด (รื้อขนไป) | C50: 3 | D50: ชุด | E50: 0 | F50: =E50*C50 -> 0 | G50: 50 | H50: =G50*C50 -> 150 | I50: =H50+F50 -> 150
A51: 11 | B51: - ก๊อกล้างพื้น (รื้อขนไป) | C51: 3 | D51: ชุด | E51: 0 | F51: =E51*C51 -> 0 | G51: 25 | H51: =G51*C51 -> 75 | I51: =H51+F51 -> 75
A52: 12 | B52: - ที่ใส่กระดาษชำระ (รื้อขนไป) | C52: 3 | D52: ชุด | E52: 0 | F52: =E52*C52 -> 0 | G52: 35 | H52: =G52*C52 -> 105 | I52: =H52+F52 -> 105
A53: 13 | B53: - ชุดอ่างล้างหน้าเเละก็อกน้ำ (รื้อขนไป) | C53: 4 | D53: ชุด | E53: 0 | F53: =E53*C53 -> 0 | G53: 250 | H53: =G53*C53 -> 1000 | I53: =H53+F53 -> 1000
A54: 14 | B54: - ชุดกระจก (รื้อขนไป) | C54: 4 | D54: ชุด | E54: 0 | F54: =E54*C54 -> 0 | G54: 30 | H54: =G54*C54 -> 120 | I54: =H54+F54 -> 120
A55: 15 | B55: - ชุดประตูและบานกระจกติดตายเดิม Ex-D19 (รื้อขนไป) (ขนาด 2.40 x 7.00 ม. ) | C55: 1 | D55: ชุด | E55: 0 | F55: =E55*C55 -> 0 | G55: =150*(2.4*7) -> 2520 | H55: =G55*C55 -> 2520 | I55: =H55+F55 -> 2520
A56: 16 | B56: - ชุดขาและกระจกบานเกล็ดเดิม Ex-W10 (รื้อขนไป) (ไม่รวมช่องที่ติดพัดลมดูดอากาศ) | C56: 2 | D56: ชุด | E56: 0 | F56: =E56*C56 -> 0 | G56: 100 | H56: =G56*C56 -> 200 | I56: =H56+F56 -> 200
A57: 17 | B57: - พื้นกระเบื้องยาง | C57: 486 | D57: ตร.ม. | E57: 0 | F57: =E57*C57 -> 0 | G57: 15 | H57: =G57*C57 -> 7290 | I57: =H57+F57 -> 7290
B58: ชั้น 4
A59: 1 | B59: - โต๊ะ (รื้อขนกองเก็บ) | C59: 26 | D59: ชุด | E59: 0 | F59: =E59*C59 -> 0 | G59: 60 | H59: =G59*C59 -> 1560 | I59: =H59+F59 -> 1560
A60: 2 | B60: - เก้าอี้ (รื้อขนกองเก็บ) | C60: 52 | D60: ชุด | E60: 0 | F60: =E60*C60 -> 0 | G60: 30 | H60: =G60*C60 -> 1560 | I60: =H60+F60 -> 1560
A61: 3 | B61: - ชั้นวางหนังสือ,ลิ้นชัก (รื้อขนกองเก็บ) | C61: 49 | D61: ชุด | E61: 0 | F61: =E61*C61 -> 0 | G61: 180 | H61: =G61*C61 -> 8820 | I61: =H61+F61 -> 8820
A62: 4 | B62: - ชุดบาร์คอมพิวเตอร์ (รื้อขนกองเก็บ) | C62: 3 | D62: ชุด | E62: 0 | F62: =E62*C62 -> 0 | G62: 60 | H62: =G62*C62 -> 180 | I62: =H62+F62 -> 180
A63: 5 | B63: - ชุดคอมพิวเตอร์เดิม (เคลื่อนย้าย-จัดเก็บ) | C63: 3 | D63: ชุด | E63: 0 | F63: =E63*C63 -> 0 | G63: 60 | H63: =G63*C63 -> 180 | I63: =H63+F63 -> 180
A64: 6 | B64: - ชุดโซฟา (รื้อขนกองเก็บ) | C64: 1 | D64: ชุด | E64: 0 | F64: =E64*C64 -> 0 | G64: 60 | H64: =G64*C64 -> 60 | I64: =H64+F64 -> 60
A65: 7 | B65: - ชุดสุขภัณฑ์นั่งยอง (รื้อขนไป) | C65: 3 | D65: ชุด | E65: 0 | F65: =E65*C65 -> 0 | G65: 140 | H65: =G65*C65 -> 420 | I65: =H65+F65 -> 420
A66: 8 | B66: - สายฉีดชำระ (รื้อขนไป) | C66: 3 | D66: ชุด | E66: 0 | F66: =E66*C66 -> 0 | G66: 35 | H66: =G66*C66 -> 105 | I66: =H66+F66 -> 105
A67: 9 | B67: - อ่างน้ำหินขัด (รื้อขนไป) | C67: 3 | D67: ชุด | E67: 0 | F67: =E67*C67 -> 0 | G67: 50 | H67: =G67*C67 -> 150 | I67: =H67+F67 -> 150
A68: 10 | B68: - ก๊อกล้างพื้น (รื้อขนไป) | C68: 3 | D68: ชุด | E68: 0 | F68: =E68*C68 -> 0 | G68: 25 | H68: =G68*C68 -> 75 | I68: =H68+F68 -> 75
A69: 11 | B69: - ที่ใส่กระดาษชำระ (รื้อขนไป) | C69: 3 | D69: ชุด | E69: 0 | F69: =E69*C69 -> 0 | G69: 35 | H69: =G69*C69 -> 105 | I69: =H69+F69 -> 105
A70: 12 | B70: - ชุดอ่างล้างหน้าเเละก็อกน้ำ (รื้อขนไป) | C70: 4 | D70: ชุด | E70: 0 | F70: =E70*C70 -> 0 | G70: 250 | H70: =G70*C70 -> 1000 | I70: =H70+F70 -> 1000
... A74: 17 | B74: - พื้นกระเบื้องยาง | C74: 482 | D74: ตร.ม. | E74: 0 | F74: =E74*C74 -> 0 | G74: 15 | H74: =G74*C74 -> 7230 | I74: =H74+F74 -> 7230
B75: ชั้น 5
A76: 1 | B76: - โต๊ะ (รื้อขนกองเก็บ) | C76: 33 | D76: ชุด | E76: 0 | F76: =E76*C76 -> 0 | G76: 60 | H76: =G76*C76 -> 1980 | I76: =H76+F76 -> 1980
A77: 2 | B77: - เก้าอี้ (รื้อขนกองเก็บ) | C77: 30 | D77: ชุด | E77: 0 | F77: =E77*C77 -> 0 | G77: 30 | H77: =G77*C77 -> 900 | I77: =H77+F77 -> 900
A78: 3 | B78: - ชั้นวางหนังสือ,ลิ้นชัก (รื้อขนกองเก็บ) | C78: 14 | D78: ชุด | E78: 0 | F78: =E78*C78 -> 0 | G78: 180 | H78: =G78*C78 -> 2520 | I78: =H78+F78 -> 2520
A79: 4 | B79: - ชุดคอมพิวเตอร์เดิม (เคลื่อนย้าย-จัดเก็บ) | C79: 5 | D79: ชุด | E79: 0 | F79: =E79*C79 -> 0 | G79: 60 | H79: =G79*C79 -> 300 | I79: =H79+F79 -> 300
A80: 5 | B80: - ชุดโซฟา (รื้อขนกองเก็บ) | C80: 5 | D80: ชุด | E80: 0 | F80: =E80*C80 -> 0 | G80: 60 | H80: =G80*C80 -> 300 | I80: =H80+F80 -> 300
A81: 6 | B81: - ผนังตกเเต่งเดิม (รื้อขนไป) | C81: 2 | D81: ชุด | E81: 0 | F81: =E81*C81 -> 0 | G81: =(6*3)*30 -> 540 | H81: =G81*C81 -> 1080 | I81: =H81+F81 -> 1080
A82: 7 | B82: - ชุดเคาน์เตอร์เดิม (รื้อขนกองเก็บ) | C82: 1 | D82: ชุด | E82: 0 | F82: 0 | G82: 220 | H82: =G82*C82 -> 220 | I82: =H82+F82 -> 220
A83: 8 | B83: - ชุดสุขภัณฑ์นั่งยอง (รื้อขนไป) | C83: 3 | D83: ชุด | E83: 0 | F83: =E83*C83 -> 0 | G83: 140 | H83: =G83*C83 -> 420 | I83: =H83+F83 -> 420
A84: 9 | B84: - สายฉีดชำระ (รื้อขนไป) | C84: 3 | D84: ชุด | E84: 0 | F84: =E84*C84 -> 0 | G84: 35 | H84: =G84*C84 -> 105 | I84: =H84+F84 -> 105
A85: 10 | B85: - อ่างน้ำหินขัด (รื้อขนไป) | C85: 3 | D85: ชุด | E85: 0 | F85: =E85*C85 -> 0 | G85: 50 | H85: =G85*C85 -> 150 | I85: =H85+F85 -> 150
A86: 11 | B86: - ก๊อกล้างพื้น (รื้อขนไป) | C86: 3 | D86: ชุด | E86: 0 | F86: =E86*C86 -> 0 | G86: 25 | H86: =G86*C86 -> 75 | I86: =H86+F86 -> 75
A87: 12 | B87: - ที่ใส่กระดาษชำระ (รื้อขนไป) | C87: 3 | D87: ชุด | E87: 0 | F87: =E87*C87 -> 0 | G87: 35 | H87: =G87*C87 -> 105 | I87: =H87+F87 -> 105
A88: 13 | B88: - ชุดอ่างล้างหน้าเเละก็อกน้ำ (รื้อขนไป) | C88: 4 | D88: ชุด | E88: 0 | F88: =E88*C88 -> 0 | G88: 250 | H88: =G88*C88 -> 1000 | I88: =H88+F88 -> 1000
A89: 14 | B89: - ชุดกระจก (รื้อขนไป) | C89: 4 | D89: ชุด | E89: 0 | F89: =E89*C89 -> 0 | G89: 30 | H89: =G89*C89 -> 120 | I89: =H89+F89 -> 120
A90: 15 | B90: - ชุดมู่ลี่เดิม (รื้อขนไป) | C90: 2 | D90: ชุด | E90: 0 | F90: 0 | G90: 100 | H90: =G90*C90 -> 200 | I90: =H90+F90 -> 200
A91: 16 | B91: - ชุดขาและกระจกบานเกล็ดเดิม Ex-W10 (รื้อขนไป) (ไม่รวมช่องที่ติดพัดลมดูดอากาศ) | C91: 2 | D91: ชุด | E91: 0 | F91: =E91*C91 -> 0 | G91: 100 | H91: =G91*C91 -> 200 | I91: =H91+F91 -> 200
A92: 17 | B92: - พื้นกระเบื้องยาง | C92: 482 | D92: ตร.ม. | E92: 0 | F92: =E92*C92 -> 0 | G92: 15 | H92: =G92*C92 -> 7230 | I92: =H92+F92 -> 7230
B93: ชั้น 6
A94: 1 | B94: - โต๊ะ (รื้อขนกองเก็บ) | C94: 23 | D94: ชุด | E94: 0 | F94: =E94*C94 -> 0 | G94: 60 | H94: =G94*C94 -> 1380 | I94: =H94+F94 -> 1380
A95: 2 | B95: - เก้าอี้ (รื้อขนกองเก็บ) | C95: 52 | D95: ชุด | E95: 0 | F95: =E95*C95 -> 0 | G95: 30 | H95: =G95*C95 -> 1560 | I95: =H95+F95 -> 1560
A96: 3 | B96: - ชั้นวางหนังสือ,ลิ้นชัก (รื้อขนกองเก็บ) | C96: 1 | D96: ชุด | E96: 0 | F96: =E96*C96 -> 0 | G96: 180 | H96: =G96*C96 -> 180 | I96: =H96+F96 -> 180
A97: 4 | B97: - ชุดโซฟา (รื้อขนกองเก็บ) | C97: 2 | D97: ชุด | E97: 0 | F97: =E97*C97 -> 0 | G97: 60 | H97: =G97*C97 -> 120 | I97: =H97+F97 -> 120
B98: - ชุดโซฟา (เคลื่อนย้าย-จัดวางใหม่) | C98: 4 | D98: ชุด | E98: 0 | F98: =E98*C98 -> 0 | G98: 25 | H98: =G98*C98 -> 100 | I98: =H98+F98 -> 100
A99: 5 | B99: - ผนังตกเเต่งเดิม (รื้อขนไป) | C99: 2 | D99: ชุด | E99: 0 | F99: =E99*C99 -> 0 | G99: =(6*3)*30 -> 540 | H99: =G99*C99 -> 1080 | I99: =H99+F99 -> 1080
A100: 6 | B100: - ชุดสุขภัณฑ์นั่งยอง (รื้อขนไป) | C100: 3 | D100: ชุด | E100: 0 | F100: =E100*C100 -> 0 | G100: 140 | H100: =G100*C100 -> 420 | I100: =H100+F100 -> 420
A101: 7 | B101: - สายฉีดชำระ (รื้อขนไป) | C101: 3 | D101: ชุด | E101: 0 | F101: =E101*C101 -> 0 | G101: 35 | H101: =G101*C101 -> 105 | I101: =H101+F101 -> 105
A102: 8 | B102: - อ่างน้ำหินขัด (รื้อขนไป) | C102: 3 | D102: ชุด | E102: 0 | F102: =E102*C102 -> 0 | G102: 50 | H102: =G102*C102 -> 150 | I102: =H102+F102 -> 150
A103: 9 | B103: - ก๊อกล้างพื้น (รื้อขนไป) | C103: 3 | D103: ชุด | E103: 0 | F103: =E103*C103 -> 0 | G103: 25 | H103: =G103*C103 -> 75 | I103: =H103+F103 -> 75
A104: 10 | B104: - ที่ใส่กระดาษชำระ (รื้อขนไป) | C104: 3 | D104: ชุด | E104: 0 | F104: =E104*C104 -> 0 | G104: 35 | H104: =G104*C104 -> 105 | I104: =H104+F104 -> 105
...

Sheet งานครุภันฑ์
A1: ราคาหมวดครุภัณฑ์
A2: รายการประมาณราคาก่อสร้าง โครงการปรับปรุงพื้นที่ให้บริการ อาคาร 15 ศูนย์วิทยบริการ (หอสมุดกลาง) ชั้น 1-6
A3: เจ้าของอาคาร สำนักวิทยบริการและเทคโนโลยีสารสนเทศ มหาวิทยาลัยราชภัฏนครศรีธรรมราช
A4: สถานที่ก่อสร้าง อาคาร 15 ศูนย์วิทยบริการ (หอสมุดกลาง) มหาวิทยาลัยราชภัฏนครศรีธรรมราช
A5: ประมาณการเมื่อ วันที่ 21 มกราคม 2568
A7: ลำดับที่ | B7: รายการ | C7: จำนวน | D7: หน่วย | E7: ราคาวัสดุสิ่งของ | G7: ค่าแรงงาน | I7: ค่าวัสดุ | J7: หมายเหตุ
E8: ราคาต่อหน่วย | F8: จำนวนเงิน | G8: ราคาต่อหน่วย | H8: จำนวนเงิน | I8: และแรงงาน
B10: งานครุภัณฑ์
A11: 1 | B11: ครุภัณฑ์พื้นที่บริการ ชั้น 1-6
B12: - Furniture 1 เคาน์เตอร์บาร์มุมค้นหาหนังสือ (ชั้น 1-5) | C12: 5 | D12: ชุด | E12: 27500 | F12: =E12*C12 -> 137500 | G12: 0 | H12: =G12*C12 -> 0 | I12: =H12+F12 -> 137500
B13: - Furniture 2 ชั้นวางหนังสือ (ชั้น 4) | C13: 20 | D13: ชุด | E13: 10500 | F13: =E13*C13 -> 210000 | G13: 0 | H13: =G13*C13 -> 0 | I13: =H13+F13 -> 210000
B14: - โต๊ะประชุมทรงสี่เหลี่ยม 240 W (ชั้น 1-5) | C14: 10 | D14: ชุด | E14: =6667+1 -> 6668 | F14: =E14*C14 -> 66680 | G14: 0 | H14: =G14*C14 -> 0 | I14: =H14+F14 -> 66680
B15: - โต๊ะประชุมทรงสี่เหลี่ยม 150 W (ชั้น 2-4) | C15: 13 | D15: ชุด | E15: =6140 -> 6140 | F15: =E15*C15 -> 79820 | G15: 0 | H15: =G15*C15 -> 0 | I15: =H15+F15 -> 79820
B16: - โต๊ะนั่งอ่านหนังสือ
B17: - ท๊อปดำ (ชั้น 2-5) | C17: 25 | D17: ชุด | E17: =2959 -> 2959 | F17: =E17*C17 -> 73975 | G17: 0 | H17: =G17*C17 -> 0 | I17: =H17+F17 -> 73975
B18: - ท๊อปขาว (ชั้น 1-3) | C18: 17 | D18: ชุด | E18: =2959 -> 2959 | F18: =E18*C18 -> 50303 | G18: 0 | H18: =G18*C18 -> 0 | I18: =H18+F18 -> 50303
B19: - โต๊ะบาร์ (ชั้น 5) | C19: 8 | D19: ชุด | E19: 2418 | F19: =E19*C19 -> 19344 | G19: 0 | H19: 0 | I19: =H19+F19 -> 19344
B20: - โต๊ะทำงานกลุ่มตัวแอล 4 ที่นั่ง (ชั้น 5) | C20: 2 | D20: ชุด | E20: =22954 -> 22954 | F20: =E20*C20 -> 45908 | G20: 0 | H20: =G20*C20 -> 0 | I20: =H20+F20 -> 45908
B21: - โต๊ะประชุมพับเก็บได้ล้อเลื่อน (ชั้น 6) | C21: 24 | D21: ชุด | E21: =3928 -> 3928 | F21: =E21*C21 -> 94272 | G21: 0 | H21: =G21*C21 -> 0 | I21: =H21+F21 -> 94272
B22: - โต๊ะเจ้าหน้าที่ (ชั้น 6) | C22: 2 | D22: ชุด | E22: =2338 -> 2338 | F22: =E22*C22 -> 4676 | G22: 0 | H22: =G22*C22 -> 0 | I22: =H22+F22 -> 4676
B23: - บูธกั้นพื้นที่ส่วนตัว พร้อมแผ่น Top ไม้ (ชั้น 1) | C23: 2 | D23: ชุด | E23: =10877+5 -> 10882 | F23: =E23*C23 -> 21764 | G23: 0 | H23: =G23*C23 -> 0 | I23: =H23+F23 -> 21764
B24: - เก้าอี้สำนักงาน (ชั้น 1-6) | C24: 16 | D24: ชุด | E24: =2438 -> 2438 | F24: =E24*C24 -> 39008 | G24: 0 | H24: =G24*C24 -> 0 | I24: =H24+F24 -> 39008
B25: - เก้าอี้โมเดิร์นหนังเทียม (ชั้น 1) | C25: 24 | D25: ชุด | E25: =1308 -> 1308 | F25: =E25*C25 -> 31392 | G25: 0 | H25: =G25*C25 -> 0 | I25: =H25+F25 -> 31392
B26: - เก้าอี้โมเดิร์นพลาสติก (ชั้น 1-3) | C26: 18 | D26: ชุด | E26: =1404 -> 1404 | F26: =E26*C26 -> 25272 | G26: 0 | H26: =G26*C26 -> 0 | I26: =H26+F26 -> 25272
B27: - เก้าอี้โมเดิร์นพลาสติกทรงกลม (ชั้น 1) | C27: 4 | D27: ชุด | E27: =385 -> 385 | F27: =E27*C27 -> 1540 | G27: 0 | H27: =G27*C27 -> 0 | I27: =H27+F27 -> 1540
B28: - โซฟาบีนแบค (ชั้น 1-5) | C28: 25 | D28: ชุด | E28: =2295 -> 2295 | F28: =E28*C28 -> 57375 | G28: 0 | H28: =G28*C28 -> 0 | I28: =H28+F28 -> 57375
B29: - โซฟา แบบไม่มีที่วางแขน
B30: - โทนสี ส้มสด+น้ำตาลช็อกโกแลต (ชั้น 1) | C30: 4 | D30: ชุด | E30: =8333 -> 8333 | F30: =E30*C30 -> 33332 | G30: 0 | H30: =G30*C30 -> 0 | I30: =H30+F30 -> 33332
B31: - โทนสี เขียวอ่อน+น้ำตาลช็อกโกแลต (ชั้น 1,2,6) | C31: 11 | D31: ชุด | E31: =8333 -> 8333 | F31: =E31*C31 -> 91663 | G31: 0 | H31: =G31*C31 -> 0 | I31: =H31+F31 -> 91663
B32: - โต๊ะกลาง (ชั้น 1-5) | C32: 5 | D32: ชุด | E32: =4795 -> 4795 | F32: =E32*C32 -> 23975 | G32: 0 | H32: =G32*C32 -> 0 | I32: =H32+F32 -> 23975
B33: - เก้าอี้นั่งคอย 4 ที่นั่ง (ชั้น 2-6) | C33: 5 | D33: ชุด | E33: =4143 -> 4143 | F33: =E33*C33 -> 20715 | G33: 0 | H33: =G33*C33 -> 0 | I33: =H33+F33 -> 20715
B34: - ชุดโซฟาหนัง (ชั้น 1-5) | C34: 5 | D34: ชุด | E34: =43800 -> 43800 | F34: =E34*C34 -> 219000 | G34: 0 | H34: =G34*C34 -> 0 | I34: =H34+F34 -> 219000
B35: - เก้าอี้หมุน (ชั้น 1,2,3,5) | C35: 52 | D35: ชุด | E35: =1290+90.3 -> 1380.3 | F35: =E35*C35 -> 71775.6 | G35: 0 | H35: 0 | I35: =H35+F35 -> 71775.6
B36: - เก้าอี้นั่งอ่านหนังสือ (ชั้น 2-5) | C36: 76 | D36: ชุด | E36: =850+59.5 -> 909.5 | F36: =E36*C36 -> 69122 | G36: 0 | H36: 0 | I36: =H36+F36 -> 69122
B37: - เก้าอี้นั่งอ่านหนังสือ
B38: - สีดำ (ชั้น 2-5) | C38: 100 | D38: ชุด | E38: =369+25.83 -> 394.83 | F38: =E38*C38 -> 39483 | G38: 0 | H38: 0 | I38: =H38+F38 -> 39483
B39: - สีขาว (ชั้น 1,2,3,6) | C39: 116 | D39: ชุด | E39: =369+25.83 -> 394.83 | F39: =E39*C39 -> 45800.28 | G39: 0 | H39: 0 | I39: =H39+F39 -> 45800.28
B40: - โต๊ะพับญี่ปุ่น (ชั้น 1,2,3,5) | C40: 8 | D40: ชุด | E40: 150 | F40: =E40*C40 -> 1200 | G40: 0 | H40: =G40*C40 -> 0 | I40: =H40+F40 -> 1200
B41: - เบาะรองนั่งวงกลม ø 40 cm. หนา 2" หุ้มหนัง PVC
B42: - โทนสีส้ม (Built-7) | C42: 16 | D42: ชุด | E42: =320/1.07 -> 299.06542 | F42: =E42*C42 -> 4785.0467 | G42: 0 | H42: =G42*C42 -> 0 | I42: =H42+F42 -> 4785.0467
B43: - โทนสีเขียว (Built-15) | C43: 8 | D43: ชุด | E43: =320/1.07 -> 299.06542 | F43: =E43*C43 -> 2392.5234 | G43: 0 | H43: =G43*C43 -> 0 | I43: =H43+F43 -> 2392.5234
B44: - หมอนอิงกันน้ำ 18x18 นิ้ว (Built-15) | C44: 12 | D44: ชุด | E44: =360.315/1.07 -> 336.74299 | F44: =E44*C44 -> 4040.9159 | G44: 0 | H44: =G44*C44 -> 0 | I44: =H44+F44 -> 4040.9159
B45: - คอมพวิเตอร์all in one สา หรับงานประมวลผล | C45: 100 | D45: เครื่อง | E45: 20000 | F45: =E45*C45 -> 2000000 | G45: 0 | H45: =G45*C45 -> 0 | I45: =H45+F45 -> 2000000
B46: - ระบบบริหารจัดการการใช้คอมพิวเตอร์ | C46: 1 | D46: ระบบ | E46: 25000 | F46: =E46*C46 -> 25000 | G46: 0 | H46: =G46*C46 -> 0 | I46: =H46+F46 -> 25000
B47: รวมครุภัณฑ์พื้นที่บริการ ชั้น 1-6 | I47: =SUM(I12:I46) -> 3611113.4
A49: 2 | B49: ครุภัณฑ์ห้องเอดูเทนเมนต์ 1
B50: สมาร์ททีวี 85 นิ้ว + ตัวยึดฝาพนัง | C50: 1 | D50: เครื่อง | E50: 65000 | F50: =E50*C50 -> 65000 | G50: 0 | H50: =G50*C50 -> 0 | I50: =H50+F50 -> 65000
B51: เครื่องจัดการระบบเสียง | C51: 1 | D51: เครื่อง | E51: 18000 | F51: =E51*C51 -> 18000 | G51: 0 | H51: =G51*C51 -> 0 | I51: =H51+F51 -> 18000
B52: ไมโครโฟนแบบมีสายพร้อมขาตั้งโต๊ะ | C52: 2 | D52: ตัว | E52: 2700 | F52: =E52*C52 -> 5400 | G52: 0 | H52: =G52*C52 -> 0 | I52: =H52+F52 -> 5400
B53: ชุดไมค์ลอย ดิจิตอล มือถือแบบคู่ ย่าน UHF | C53: 1 | D53: ชุด | E53: 10900 | F53: =E53*C53 -> 10900 | G53: 0 | H53: =G53*C53 -> 0 | I53: =H53+F53 -> 10900
B54: เครื่องขยายสัญญาณเสียง | C54: 1 | D54: เครื่อง | E54: 37000 | F54: =E54*C54 -> 37000 | G54: 0 | H54: =G54*C54 -> 0 | I54: =H54+F54 -> 37000
B55: ลำโพงคอลัมน์ 8X2.5 นิ้ว | C55: 4 | D55: ตัว | E55: 20000 | F55: =E55*C55 -> 80000 | G55: 0 | H55: =G55*C55 -> 0 | I55: =H55+F55 -> 80000
B56: Ethernet Switch 8 Port POE Smart Manage | C56: 1 | D56: เครื่อง | E56: 6000 | F56: =E56*C56 -> 6000 | G56: 0 | H56: =G56*C56 -> 0 | I56: =H56+F56 -> 6000
B57: กล้องวงจรปิดแบบ IP | C57: 1 | D57: ตัว | E57: 7000 | F57: =E57*C57 -> 7000 | G57: 0 | H57: =G57*C57 -> 0 | I57: =H57+F57 -> 7000
B58: ตู้เก็บอุปกรณ์ขนาด 27 U | C58: 1 | D58: ตัว | E58: 20000 | F58: =E58*C58 -> 20000 | G58: 0 | H58: =G58*C58 -> 0 | I58: =H58+F58 -> 20000
B59: สาย HDMI Optical | C59: 1 | D59: เส้น | E59: 10000 | F59: =E59*C59 -> 10000 | G59: 0 | H59: =G59*C59 -> 0 | I59: =H59+F59 -> 10000
B60: เครื่องเปิด ปิดระบบไฟฟ้า | C60: 1 | D60: เครื่อง | E60: 8500 | F60: =E60*C60 -> 8500 | G60: 0 | H60: =G60*C60 -> 0 | I60: =H60+F60 -> 8500
B62: รวมครุภัณฑ์ห้องเอดูเทนเมนต์ 1 | I62: =SUM(I50:I60) -> 267800
A64: 3 | B64: ครุภัณฑ์ห้องเอดูเทนเมนต์ 2
B65: สมาร์ททีวี 85 นิ้ว + ตัวยึดฝาพนัง | C65: 1 | D65: เครื่อง | E65: 65000 | F65: =E65*C65 -> 65000 | G65: 0 | H65: =G65*C65 -> 0 | I65: =H65+F65 -> 65000
B66: เครื่องจัดการระบบเสียง | C66: 1 | D66: เครื่อง | E66: 18000 | F66: =E66*C66 -> 18000 | G66: 0 | H66: =G66*C66 -> 0 | I66: =H66+F66 -> 18000
B67: ไมโครโฟนแบบมีสายพร้อมขาตั้งโต๊ะ | C67: 2 | D67: ตัว | E67: 2700 | F67: =E67*C67 -> 5400 | G67: 0 | H67: =G67*C67 -> 0 | I67: =H67+F67 -> 5400
B68: ชุดไมค์ลอย ดิจิตอล มือถือแบบคู่ ย่าน UHF | C68: 1 | D68: ชุด | E68: 10900 | F68: =E68*C68 -> 10900 | G68: 0 | H68: =G68*C68 -> 0 | I68: =H68+F68 -> 10900
B69: เครื่องขยายสัญญาณเสียง | C69: 1 | D69: เครื่อง | E69: 37000 | F69: =E69*C69 -> 37000 | G69: 0 | H69: =G69*C69 -> 0 | I69: =H69+F69 -> 37000
B70: ลำโพงคอลัมน์ 8X2.5 นิ้ว | C70: 4 | D70: ตัว | E70: 20000 | F70: =E70*C70 -> 80000 | G70: 0 | H70: =G70*C70 -> 0 | I70: =H70+F70 -> 80000
B71: Ethernet Switch 8 Port POE Smart Manage | C71: 1 | D71: เครื่อง | E71: 6000 | F71: =E71*C71 -> 6000 | G71: 0 | H71: =G71*C71 -> 0 | I71: =H71+F71 -> 6000
B72: กล้องวงจรปิดแบบ IP | C72: 1 | D72: ตัว | E72: 7000 | F72: =E72*C72 -> 7000 | G72: 0 | H72: =G72*C72 -> 0 | I72: =H72+F72 -> 7000
B73: ตู้เก็บอุปกรณ์ขนาด 27 U | C73: 1 | D73: ตัว | E73: 20000 | F73: =E73*C73 -> 20000 | G73: 0 | H73: =G73*C73 -> 0 | I73: =H73+F73 -> 20000
B74: สาย HDMI Optical | C74: 1 | D74: เส้น | E74: 10000 | F74: =E74*C74 -> 10000 | G74: 0 | H74: =G74*C74 -> 0 | I74: =H74+F74 -> 10000
B75: เครื่องเปิด ปิดระบบไฟฟ้า | C75: 1 | D75: เครื่อง | E75: 8500 | F75: =E75*C75 -> 8500 | G75: 0 | H75: =G75*C75 -> 0 | I75: =H75+F75 -> 8500
B76: รวมครุภัณฑ์ห้องเอดูเทนเมนต์ 2 | I76: =SUM(I65:I75) -> 267800
A77: 4 | B77: ครุภัณฑ์ห้องยันต์ทอง
B78: จอแสดงผลชนิด LED Pixel Pitch 2.5 mm. ขนาดจอรวม 4.480x2.400 เมตร | C78: 10.752 | D78: ตร.ม. | E78: 58850 | F78: =E78*C78 -> 632755.2 | G78: 0 | H78: =G78*C78 -> 0 | I78: =H78+F78 -> 632755.2
B79: เครื่องประมวลผลและส่งสัญญาณภาพสำหรับจอแสดงผล LED | C79: 1 | D79: เครื่อง | E79: 40000 | F79: =E79*C79 -> 40000 | G79: 0 | H79: =G79*C79 -> 0 | I79: =H79+F79 -> 40000
B80: กล้องชนิด PTZ ความละเอียดสูง | C80: 2 | D80: ตัว | E80: 48150 | F80: =E80*C80 -> 96300 | G80: 0 | H80: =G80*C80 -> 0 | I80: =H80+F80 -> 96300
B81: รีโมทควบคุมกล้องแบบ Joystick | C81: 1 | D81: ตัว | E81: 29960 | F81: =E81*C81 -> 29960 | G81: 0 | H81: =G81*C81 -> 0 | I81: =H81+F81 -> 29960
B82: เครื่องเลือกสัญญาณภาพชนิด HDMI เข้า 8 ออก 1 | C82: 1 | D82: เครื่อง | E82: 18190 | F82: =E82*C82 -> 18190 | G82: 0 | H82: =G82*C82 -> 0 | I82: =H82+F82 -> 18190
B83: เครื่องเลือกและสลับสัญญาณภาพ | C83: 1 | D83: เครื่อง | E83: 48150 | F83: =E83*C83 -> 48150 | G83: 0 | H83: =G83*C83 -> 0 | I83: =H83+F83 -> 48150
B84: จอแสดงผลขนาด 24 นิ้วสำหรับเครื่องเลือกและสลับสัญญาณภาพ | C84: 1 | D84: จอ | E84: 9416 | F84: =E84*C84 -> 9416 | G84: 0 | H84: =G84*C84 -> 0 | I84: =H84+F84 -> 9416
B85: คอมพิวเตอร์สำหรับนำเสนองานและประชุมทางไกล | C85: 1 | D85: ชุด | E85: 35310 | F85: =E85*C85 -> 35310 | G85: 0 | H85: =G85*C85 -> 0 | I85: =H85+F85 -> 35310
B86: เครื่องควบคุมการทำงานอุปกรณ์พร้อมหน้าควบคุมการสั่งงานและโปรแกรมควบคุมการ ทำงาน | C86: 1 | D86: เครื่อง | E86: 155150 | F86: =E86*C86 -> 155150 | G86: 0 | H86: =G86*C86 -> 0 | I86: =H86+F86 -> 155150
B87: เครื่องผสมสัญญาณเสียง | C87: 1 | D87: เครื่อง | E87: 36380 | F87: =E87*C87 -> 36380 | G87: 0 | H87: =G87*C87 -> 0 | I87: =H87+F87 -> 36380
B88: ไม่โครโฟนมือถือแบบไร้สาย | C88: 2 | D88: ชุด | E88: 9630 | F88: =E88*C88 -> 19260 | G88: 0 | H88: =G88*C88 -> 0 | I88: =H88+F88 -> 19260
B89: เครื่องสำรองไฟขนาด 2 KVA | C89: 2 | D89: เครื่อง | E89: 33170 | F89: =E89*C89 -> 66340 | G89: 0 | H89: =G89*C89 -> 0 | I89: =H89+F89 -> 66340
... B92: เครื่องกระจายสัญญาณเครือข่ายแบบใช้สาย | C92: 1 | D92: เครื่อง | E92: 11770 | F92: =E92*C92 -> 11770 | G92: 0 | H92: =G92*C92 -> 0 | I92: =H92+F92 -> 11770
B93: รวมครุภัณฑ์ห้องยันต์ทอง | I93: =SUM(I78:I92) -> 1223270.2
B95: รวมเงินงานครุภัณฑ์ | F95: =SUM(F12:F44) -> 1586113.4 | H95: =SUM(H12:H44) -> 0 | I95: =SUM(I47+I62+I76+I93) -> 5369983.6

Sheet ที่มา
A1: พื้น | D1: ราคา | F1: ค่าแรง
A2: โครง | B2: 6 | C2: =378/3 -> 126 | D2: =B2*C2 -> 756 | E2: =D2*0.3 -> 226.8 | G2: =D2+E2 -> 982.8 | I2: 3ม/ท่อน
A3: แผ่นไม้ปิดปูพื้น | B3: 1 | C3: =(620/107)*100 -> 579.43925 | D3: =B3*C3 -> 579.43925 | E3: =D3*0.3 -> 173.83178 | G3: =D3+E3 -> 753.27103
D4: =SUM(D2:D3) -> 1335.4393 | E4: =SUM(E2:E3) -> 400.63178 | G4: =SUM(G2:G3) -> 1736.071
A5: ประตูทางเข้า
A6: โครง | B6: 7.5 | C6: 379 | D6: =B6*C6 -> 2842.5 | E6: 69 | F6: =E6*B6 -> 517.5 | G6: =D6+ F6 -> 3360
A7: ผิวลามิเนต | B7: 7.5 | C7: 343.05 | D7: =B7*C7 -> 2572.875 | E7: =50 -> 50 | F7: =E7*B7 -> 375 | G7: =D7+ F7 -> 2947.875
A8: ร่องแสตน | B8: 6 | C8: 261 | D8: =B8*C8 -> 1566 | E8: 10 | F8: =E8*B8 -> 60 | G8: =D8+ F8 -> 1626
A9: บัว | B9: 1.5 | C9: 158.66 | D9: =B9*C9 -> 237.99 | E9: 10 | F9: =E9*B9 -> 15 | G9: =D9+ F9 -> 252.99
D10: =SUM(D6:D9) -> 7219.365 | F10: =SUM(F6:F9) -> 967.5 | G10: =SUM(G6:G9) -> 8186.865
A12: ห้องข้างหน้า
A13: โครง | B13: 9.28 | C13: 379 | D13: =B13*C13 -> 3517.12 | E13: 69 | F13: =E13*B13 -> 640.32 | G13: =D13+ F13 -> 4157.44
A14: ผิวลามิเนต | B14: 9.28 | C14: =(343.05/107)*100 -> 320.60748 | D14: =B14*C14 -> 2975.2374 | E14: =50 -> 50 | F14: =E14*B14 -> 464 | G14: =D14+ F14 -> 3439.2374
A15: ร่องแสตน | B15: 11.5 | C15: 261 | D15: =B15*C15 -> 3001.5 | E15: 10 | F15: =E15*B15 -> 115 | G15: =D15+ F15 -> 3116.5
A16: บัว | B16: 6.55 | C16: 158.66 | D16: =B16*C16 -> 1039.223 | E16: 10 | F16: =E16*B16 -> 65.5 | G16: =D16+ F16 -> 1104.723
D17: =SUM(D13:D16) -> 10533.08 | F17: =SUM(F13:F16) -> 1284.82 | G17: =SUM(G13:G16) -> 11817.9
A19: ผนังโปรเจคเตอ
A20: โครง | B20: 17.5 | C20: 379 | D20: =B20*C20 -> 6632.5 | E20: 69 | F20: =E20*B20 -> 1207.5 | G20: =D20+ F20 -> 7840
A21: ผิวลามิเนต | B21: 17.5 | C21: =(343.05/107)*100 -> 320.60748 | D21: =B21*C21 -> 5610.6308 | E21: =50 -> 50 | F21: =E21*B21 -> 875 | G21: =D21+ F21 -> 6485.6308
A22: ร่องแสตน | B22: 18.2 | C22: 261 | D22: =B22*C22 -> 4750.2 | E22: 10 | F22: =E22*B22 -> 182 | G22: =D22+ F22 -> 4932.2
D23: =SUM(D20:D22) -> 16993.331 | F23: =SUM(F20:F22) -> 2264.5 | G23: =SUM(G20:G22) -> 19257.831
A25: ผนังหลังห้อง
A26: โครง | B26: 20.7 | C26: 379 | D26: =B26*C26 -> 7845.3 | E26: 69 | F26: =E26*B26 -> 1428.3 | G26: =D26+ F26 -> 9273.6
A27: ผิวลามิเนต | B27: 20.7 | C27: =(343.05/107)*100 -> 320.60748 | D27: =B27*C27 -> 6636.5748 | E27: =50 -> 50 | F27: =E27*B27 -> 1035 | G27: =D27+ F27 -> 7671.5748 | H27: ตรม
A28: ร่องแสตน | B28: 24.5 | C28: 261 | D28: =B28*C28 -> 6394.5 | E28: 10 | F28: =E28*B28 -> 245 | G28: =D28+ F28 -> 6639.5
A29: บัว | B29: 4.85 | C29: 158.66 | D29: =B29*C29 -> 769.501 | E29: 10 | F29: =E29*B29 -> 48.5 | G29: =D29+ F29 -> 818.001
A30: ประตู | B30: 1 | C30: =3600+1230+500 -> 5330 | D30: =B30*C30 -> 5330 | E30: 400 | F30: =E30*B30 -> 400 | G30: =D30+ F30 -> 5730
D31: =SUM(D26:D30) -> 26975.876 | F31: =SUM(F26:F30) -> 3156.8 | G31: =SUM(G26:G30) -> 30132.676
A33: โต๊ะประชุม
A34: โครง | B34: 18 | C34: =(42/107)*100 -> 39.252336 | D34: =B34*C34 -> 706.54206 | E34: =C34*0.3 -> 11.775701 | F34: =E34*B34 -> 211.96262 | G34: =D34+ F34 -> 918.50467 | H34: ไม้โครงเบญจพรรณ อบ จ๊อยท์ KP รุ่น KP 841 ขนาด 4 x 250 x 2.2 ซม. (แพ็ก 10 ชิ้น) สีธรรมชาติ
A35: แผ่นไม้ปิดปูพื้น | B35: 7 | C35: =(355/107)*100 -> 331.7757 | D35: =B35*C35 -> 2322.4299 | E35: =C35*0.3 -> 99.53271 | F35: =E35*B35 -> 696.72897 | G35: =D35+ F35 -> 3019.1589
A36: ผิวลามิเนต | B36: 7 | C36: =(988/107)*100 -> 923.36449 | D36: =B36*C36 -> 6463.5514 | E36: =50 -> 50 | F36: =E36*B36 -> 350 | G36: =D36+ F36 -> 6813.5514 | H36: 1แผ่น
A37: ร่องแสตน | B37: 2.7 | C37: 261 | D37: =B37*C37 -> 704.7 | E37: 10 | F37: =E37*B37 -> 27 | G37: =D37+ F37 -> 731.7 | H37: ร่องสแตนเลส 10 มม. 2.4 ม. สีเงินเงา
D38: =SUM(D34:D37) -> 10197.223 | F38: =SUM(F34:F37) -> 1285.6916 | G38: =SUM(G34:G37) -> 11482.915
A40: โต๊ะประธาน
A41: โครง | B41: 44 | C41: =(42/107)*100 -> 39.252336 | D41: =B41*C41 -> 1727.1028 | E41: =C41*0.3 -> 11.775701 | F41: =E41*B41 -> 518.13084 | G41: =D41+ F41 -> 2245.2336 | H41: ไม้โครงเบญจพรรณ อบ จ๊อยท์ KP รุ่น KP 841 ขนาด 4 x 250 x 2.2 ซม. (แพ็ก 10 ชิ้น) สีธรรมชาติ
A42: แผ่นไม้ปิดปูพื้น | B42: 20 | C42: =(355/107)*100 -> 331.7757 | D42: =B42*C42 -> 6635.514 | E42: =C42*0.3 -> 99.53271 | F42: =E42*B42 -> 1990.6542 | G42: =D42+ F42 -> 8626.1682
A43: ผิวลามิเนต | B43: 20 | C43: =(988/107)*100 -> 923.36449 | D43: =B43*C43 -> 18467.29 | E43: =50 -> 50 | F43: =E43*B43 -> 1000 | G43: =D43+ F43 -> 19467.29 | H43: 1แผ่น
A44: ร่องแสตน | B44: 12.25 | C44: 261 | D44: =B44*C44 -> 3197.25 | E44: 10 | F44: =E44*B44 -> 122.5 | G44: =D44+ F44 -> 3319.75 | H44: ร่องสแตนเลส 10 มม. 2.4 ม. สีเงินเงา
A45: บัว | B45: 9.75 | C45: 158.66 | D45: =B45*C45 -> 1546.935 | E45: 10 | F45: =E45*B45 -> 97.5 | G45: =D45+ F45 -> 1644.435
D46: =SUM(D41:D45) -> 31574.092 | F46: =SUM(F41:F45) -> 3728.785 | G46: =SUM(G41:G44) -> 33658.442
