Workbook
Name _con1: #REF!
Name _con11: #REF!
Name _con2: #REF!
Name _con3: #REF!
Name _con4: #REF!
Name _fws1: #N/A
Name _rb1: #N/A
Name _sb1: #N/A
Name _sd30: #REF!
Name _sd40: #REF!
Name _st1: #REF!
Name _st2: #REF!
Name _st3: #REF!
Name _wb1: #N/A
Name aa: #REF!
Name AB: '[1]12 ข้อมูลงานไม้แบบ'!$W$29
Name AC: #REF!
Name bb: #REF!
Name ce: #REF!
Name con: #REF!
Name D: #REF!
Name F: #REF!
Name F: #REF!
Name F: #REF!
Name f_bridge: '[2]F(ของเรา)'!$G$27
Name F_road: '[2]F(ของเรา)'!$G$26
Name ff: '[3]F(ของเรา)'!$G$27
Name fff: '[4]11 ข้อมูลงานCon'!$AB$30
Name FWS: '[5]11 ข้อมูลงานCon'!$AB$30
Name FWSS: '[5]11 ข้อมูลงานCon'!$AB$30
Name fกรรมการ: #REF!
Name fกรรมการ: #REF!
Name fกรรมการ: #REF!
Name ITEM1.1: #REF!
Name ITEM1.2: #REF!
Name ITEM1.3.1: #REF!
Name ITEM1.3.2: #REF!
Name ITEM1.3.3: #REF!
Name ITEM1.3.4: #REF!
Name ITEM1.3.5: #REF!
Name ITEM1.3.6: #REF!
Name ITEM1.3.7: #REF!
Name ITEM1.3.8: #REF!
Name ITEM1.4.1: #REF!
Name ITEM1.5: #REF!
Name ITEM1.5: #REF!
Name ITEM1.5: #REF!
Name ITEM2.1: #REF!
Name ITEM2.2.1: #REF!
Name ITEM2.2.2: #REF!
Name ITEM2.2.2: #REF!
Name ITEM2.2.2: #REF!
Name ITEM2.2.3: #REF!
Name ITEM2.2.3: #REF!
Name ITEM2.2.3: #REF!
Name ITEM2.2.3.4: '[6]41.EXCAVATION'!#REF!
Name ITEM2.2.3.4: '[6]41.EXCAVATION'!#REF!
Name ITEM2.2.3.4: '[6]41.EXCAVATION'!#REF!
Name ITEM2.2.4: #REF!
Name ITEM2.2.5: #REF!

Sheet ปก
A3: มหาวิทยาลัยราชภัฏนครศรีธรรมราช
A4: รายการประมาณราคา
A5: โครงการปรับปรุงพื้นที่ให้บริการ อาคาร 15 ศูนย์วิทยบริการ (หอสมุดกลาง) ชั้น 1-6

Sheet ปร.6
A1: แบบสรุปราคากลางงานก่อสร้างอาคาร
A2: รายการประมาณราคาก่อสร้าง โครงการปรับปรุงพื้นที่ให้บริการ อาคาร 15 ศูนย์วิทยบริการ (หอสมุดกลาง) ชั้น 1-6
A3: เจ้าของอาคาร สำนักวิทยบริการและเทคโนโลยีสารสนเทศ มหาวิทยาลัยราชภัฏนครศรีธรรมราช
A4: สถานที่ก่อสร้าง อาคาร 15 ศูนย์วิทยบริการ (หอสมุดกลาง) มหาวิทยาลัยราชภัฏนครศรีธรรมราช
A5: แบบ ปร. 4 และ ปร. 5 ที่แนบ จำนวน 20 แผ่น
A6: ประมาณการเมื่อ วันที่ 21 มกราคม 2568
A8: ลำดับที่ | B8: รายการ | C8: ค่าก่อสร้าง | D8: หมายเหตุ
C9: (บาท)
A10: 1 | B10: ='ปร.5 (ก)'!B12 -> งานสถาปัตย์ | C10: =SUM('ปร.5 (ก)'!C12) -> 3919743.3
A11: 2 | B11: ='ปร.5 (ก)'!B13 -> งานระบบไฟฟ้า | C11: =SUM('ปร.5 (ก)'!C13) -> 425030
A12: 3 | B12: ='ปร.5 (ก)'!B14 -> งานสุขภัณฑ์ | C12: =SUM('ปร.5 (ก)'!C14) -> 149031.25
B14: รวมราคางานก่อสร้าง | C14: =SUM('ปร.4 ก่อสร้าง'!I318) -> 4493804.5
B15: Factor F (1.3020) | C15: =C14*0.302 -> 1357129
A16: 4 | B16: ค่าใช้จ่ายพิเศษตามข้อกำหนด | C16: ='ปร.4 ก่อสร้าง'!I336 -> 72230
A17: 5 | B17: งานครุภัณฑ์ | C17: =SUM('ปร.5 (ข)'!C11) -> 5369983.6
B18: VAT 7% | C18: =C17*0.07 -> 375898.85
A19: สรุป | B19: รวมทั้งสิ้นค่าก่อสร้างทั้งโครงการ | C19: =SUM(C14:C18) -> 11669046
B20: ราคากลาง | C20: 11669000
A21: ตัวอักษร : | B21: =BAHTTEXT(C20) -> สิบเอ็ดล้านหกแสนหกหมื่นเก้าพันบาทถ้วน

Sheet ปร.5 (ก)
A1: สรุปผลการประมาณราคาค่าก่อสร้าง
A2: ส่วนราชการ มหาวิทยาลัยราชภัฏนครศรีธรรมราช
A3: รายการประมาณราคาก่อสร้าง โครงการปรับปรุงพื้นที่ให้บริการ อาคาร 15 ศูนย์วิทยบริการ (หอสมุดกลาง) ชั้น 1-6
A4: เจ้าของอาคาร สำนักวิทยบริการและเทคโนโลยีสารสนเทศ มหาวิทยาลัยราชภัฏนครศรีธรรมราช
A5: สถานที่ก่อสร้าง อาคาร 15 ศูนย์วิทยบริการ (หอสมุดกลาง) มหาวิทยาลัยราชภัฏนครศรีธรรมราช
A6: ประมาณราคาตามแบบ ปร. 4 จำนวน 16 แผ่น
A7: ประมาณการเมื่อ วันที่ 21 มกราคม 2568
A9: ลำดับที่ | B9: รายการ | C9: ค่าวัสดุและค่าแรงงาน | D9: FACTOR F | E9: ค่าก่อสร้างทั้งหมด | F9: หมายเหตุ
C10: รวมเป็นเงิน (บาท) | E10: รวมเป็นเงิน (บาท)
B11: งานสถาปัตย์ | D11: 1.302
A12: 1 | B12: งานสถาปัตย์ | C12: =SUM('ปร.4 ก่อสร้าง'!I185) -> 3919743.3 | E12: =C12*D11 -> 5103505.8
A13: 2 | B13: งานระบบไฟฟ้า | C13: ='ปร.4 ก่อสร้าง'!I305 -> 425030 | E13: =C13*D11 -> 553389.06
A14: 3 | B14: ='ปร.4 ก่อสร้าง'!B307 -> งานสุขภัณฑ์ | C14: ='ปร.4 ก่อสร้าง'!I316 -> 149031.25 | E14: =C14*D11 -> 194038.69
B16: เงื่อนไขการใช้ตาราง Factor F
B17: เงินล่วงหน้าจ่าย 0 %
B18: เงินประกันผลงานหัก 0 %
B19: ดอกเบี้ยเงินกู้ 7 %
B20: ค่าภาษีมูลค่าเพิ่ม (VAT) 7 %
A21: รวมทั้งสิ้น | E21: =SUM(E11:E20) -> 5850933.5
A22: ตัวอักษร | B22: =BAHTTEXT(E21) -> ห้าล้านแปดแสนห้าหมื่นเก้าร้อยสามสิบสามบาทห้าสิบสตางค์
B23: ขนาดเนื้อที่ก่อสร้างอาคาร | C23: 0 | D23: ตร.ม.
B24: เฉลี่ยราคาประมาณ | C24: 0 | D24: บาท / ตร.ม.

Sheet ปร.5 (ข)
A1: สรุปค่าครุภัณฑ์จัดซื้อ
A2: ส่วนราชการ มหาวิทยาลัยราชภัฏนครศรีธรรมราช
A3: รายการประมาณราคาก่อสร้าง โครงการปรับปรุงพื้นที่ให้บริการ อาคาร 15 ศูนย์วิทยบริการ (หอสมุดกลาง) ชั้น 1-6
A4: เจ้าของอาคาร สำนักวิทยบริการและเทคโนโลยีสารสนเทศ มหาวิทยาลัยราชภัฏนครศรีธรรมราช
A5: สถานที่ก่อสร้าง อาคาร 15 ศูนย์วิทยบริการ (หอสมุดกลาง) มหาวิทยาลัยราชภัฏนครศรีธรรมราช
A6: ประมาณราคาตามแบบ ปร. 4 จำนวน 16 แผ่น
A7: ประมาณการเมื่อ วันที่ 21 มกราคม 2568
A9: ลำดับที่ | B9: รายการ | C9: ค่าวัสดุและค่าแรงงาน | D9: ภาษี | E9: ค่าก่อสร้างทั้งหมด | F9: หมายเหตุ
C10: รวมเป็นเงิน (บาท) | D10: มูลค่าเพิ่ม | E10: รวมเป็นเงิน (บาท)
A11: 1 | B11: ประเภทงานครุภัณฑ์ | C11: =SUM(งานครุภันฑ์!I95) -> 5369983.6 | D11: 1.07 | E11: =C11*D11 -> 5745882.4
B18: รวมทั้งสิ้น | E18: =SUM(E11:E17) -> 5745882.4
A19: ตัวอักษร | B19: =BAHTTEXT(E18) -> ห้าล้านเจ็ดแสนสี่หมื่นห้าพันแปดร้อยแปดสิบสองบาทสี่สิบสองสตางค์
B20: ขนาด | C20: 0 | D20: ตร.ม.
B21: เฉลี่ยราคาประมาณ | C21: 0 | D21: บาท / ตร.ม.

Sheet ค่าใช้จ่ายพิเศษ
A1: ตารางการประมาณราคาค่าก่อสร้างของงานอาคาร
A2: ส่วนที่ 2 ค่าใช้จ่ายพิเศษตามข้อกำหนด (ถ้ามี)
A3: รายการประมาณราคาก่อสร้าง โครงการปรับปรุงพื้นที่ให้บริการ อาคาร 15 ศูนย์วิทยบริการ (หอสมุดกลาง) ชั้น 1-6
A4: สถานที่ก่อสร้าง อาคาร 15 ศูนย์วิทยบริการ (หอสมุดกลาง) มหาวิทยาลัยราชภัฏนครศรีธรรมราช
A5: ประมาณการเมื่อ วันที่ 21 มกราคม 2568
A7: ลำดับที่ | B7: รายการ | C7: รวมเป็นเงิน (บาท) | D7: หมายเหตุ
A8: 1 | B8: หมวดค่าใช้จ่ายพิเศษ ตามข้อกำหนดเงื่อนไขและความจำเป็นต้องมี
A9: 1.1 | B9: การกำหนดคุณสมบัติของผู้ปฏิบัติงาน หรือคุมการก่อสร้างพิเศษเฉพาะ
A10: 1.2 | B10: การกำหนดให้ใช้นั่งร้านและให้ความปลอดภัยต่อคนงานก่อสร้างตามกฎหมายแรงงาน
A11: 1.3 | B11: การทำ BENCH MSRK สำหรับตรวจเช็คระดับมาตรฐาน
A12: 1.4 | B12: การทดสอบการทรุดตัวของอาคารขณะก่อสร้างเป็นระยะ ๆ
A13: 1.5 | B13: การทำให้อาคารบางส่วนให้เสร็จเพื่อเข้าไปใช้สอยก่อนเสร็จทั้งโครงการ
A14: 1.6 | B14: การกำหนดให้ทำแผนงานก่อสร้างละเอียดด้วยระบบ C.P.M
A15: 1.7 | B15: การจัดสร้างสำนักงานสนาม สำหรับผู้ว่าจ้างหรือผู้ควบคุมงาน
A16: 1.8 | B16: การทำระบบป้องกันฝุ่นตามข้อบังคับ
A17: 1.9 | B17: การทำระบบป้องกันดินพัง
A18: 1.1 | B18: การใช้จ่ายสำหรับอุปกรณ์เครื่องจักรกลพิเศษในการก่อสร้าง เช่น TOWER CRANE เป็นต้น
A19: 1.11 | B19: การใช้จ่ายกรณีไม่อนุญาตให้คนงานพักในบริเวณที่ก่อสร้าง
... A21: 1.13 | B21: อื่น ๆ ถ้ามีให้ระบุ
B22: รายการครุภัณฑ์ที่ต้องเคลื่อนย้ายติดตั้งบริการชั่วคราว และนำกลับติดตั้งในอาคารตามแบบแปลนจัดวางใหม่ | C22: =SUM('ปร.4 ก่อสร้าง'!I336) -> 72230
B24: รวมค่าใช้จ่ายพิเศษ (ตามข้อกำหนดเงื่อนไขและความจำเป็นต้องมี) | C24: =SUM(C8:C24) -> 72230

Sheet ปร.4 ก่อสร้าง
A1: ราคาหมวดก่อสร้าง
A2: รายการประมาณราคาก่อสร้าง โครงการปรับปรุงพื้นที่ให้บริการ อาคาร 15 ศูนย์วิทยบริการ (หอสมุดกลาง) ชั้น 1-6
A3: เจ้าของอาคาร สำนักวิทยบริการและเทคโนโลยีสารสนเทศ มหาวิทยาลัยราชภัฏนครศรีธรรมราช
A4: สถานที่ก่อสร้าง อาคาร 15 ศูนย์วิทยบริการ (หอสมุดกลาง) มหาวิทยาลัยราชภัฏนครศรีธรรมราช
A5: ประมาณการเมื่อ วันที่ 21 มกราคม 2568
A7: ลำดับที่ | B7: รายการ | C7: จำนวน | D7: หน่วย | E7: ราคาวัสดุสิ่งของ | G7: ค่าแรงงาน | I7: ค่าวัสดุ | J7: หมายเหตุ
E8: ราคาต่อหน่วย | F8: จำนวนเงิน | G8: ราคาต่อหน่วย | H8: จำนวนเงิน | I8: และแรงงาน
B9: งานสถาปัตย์
A10: 1 | B10: งานรื้อถอน
B11: ชั้น 1
A12: 1 | B12: - โต๊ะ (รื้อขนกองเก็บ) | C12: 57 | D12: ชุด | E12: 0 | F12: =E12*C12 -> 0 | G12: 60 | H12: =G12*C12 -> 3420 | I12: =H12+F12 -> 3420
A13: 2 | B13: - เก้าอี้ (รื้อขนกองเก็บ) | C13: 73 | D13: ชุด | E13: 0 | F13: =E13*C13 -> 0 | G13: 30 | H13: =G13*C13 -> 2190 | I13: =H13+F13 -> 2190
A14: 3 | B14: - ชั้นวางหนังสือ,ลิ้นชัก (รื้อขนกองเก็บ) | C14: 17 | D14: ชุด | E14: 0 | F14: =E14*C14 -> 0 | G14: 180 | H14: =G14*C14 -> 3060 | I14: =H14+F14 -> 3060
B15: - ชั้นวางหนังสือ (เคลื่อนย้าย-จัดวางใหม่) | C15: 30 | D15: ชุด | E15: 0 | F15: =E15*C15 -> 0 | G15: 60 | H15: =G15*C15 -> 1800 | I15: =H15+F15 -> 1800
A16: 4 | B16: - ชุดบาร์คอมพิวเตอร์ (รื้อขนกองเก็บ) | C16: 3 | D16: ชุด | E16: 0 | F16: =E16*C16 -> 0 | G16: 60 | H16: =G16*C16 -> 180 | I16: =H16+F16 -> 180
A17: 5 | B17: - ชุดคอมพิวเตอร์เดิม (เคลื่อนย้าย-จัดเก็บ) | C17: 24 | D17: ชุด | E17: 0 | F17: =E17*C17 -> 0 | G17: 60 | H17: =G17*C17 -> 1440 | I17: =H17+F17 -> 1440
A18: 6 | B18: - ชุดโซฟา (รื้อขนกองเก็บ) | C18: 1 | D18: ชุด | E18: 0 | F18: =E18*C18 -> 0 | G18: 60 | H18: =G18*C18 -> 60 | I18: =H18+F18 -> 60
A19: 7 | B19: - ผนังตกเเต่งเดิม (รื้อขนไป) | C19: 1 | D19: ชุด | E19: 0 | F19: =E19*C19 -> 0 | G19: =(6*3)*30 -> 540 | H19: =G19*C19 -> 540 | I19: =H19+F19 -> 540
A20: 8 | B20: - ชุดเคาน์เตอร์บริการยืมคืนและฝ้า Built-in เดิม (รื้อขนไป) | C20: 1 | D20: ชุด | E20: 0 | F20: =E20*C20 -> 0 | G20: 1600 | H20: =G20*C20 -> 1600 | I20: =H20+F20 -> 1600
A21: 9 | B21: - เครื่องปริ้น Double A (เคลื่อนย้าย-จัดเก็บ) | C21: 1 | D21: ชุด | E21: 0 | F21: =E21*C21 -> 0 | G21: 100 | H21: =G21*C21 -> 100 | I21: =H21+F21 -> 100
B22: ชั้น 2
A23: 1 | B23: - โต๊ะ (รื้อขนกองเก็บ) | C23: 46 | D23: ชุด | E23: 0 | F23: =E23*C23 -> 0 | G23: 60 | H23: =G23*C23 -> 2760 | I23: =H23+F23 -> 2760
A24: 2 | B24: - เก้าอี้ (รื้อขนกองเก็บ) | C24: 89 | D24: ชุด | E24: 0 | F24: =E24*C24 -> 0 | G24: 30 | H24: =G24*C24 -> 2670 | I24: =H24+F24 -> 2670
A25: 3 | B25: - ชั้นวางหนังสือ,ลิ้นชัก (รื้อขนกองเก็บ) | C25: 6 | D25: ชุด | E25: 0 | F25: =E25*C25 -> 0 | G25: 180 | H25: =G25*C25 -> 1080 | I25: =H25+F25 -> 1080
A26: 4 | B26: - ชุดบาร์คอมพิวเตอร์ (รื้อขนกองเก็บ) | C26: 3 | D26: ชุด | E26: 0 | F26: =E26*C26 -> 0 | G26: 60 | H26: =G26*C26 -> 180 | I26: =H26+F26 -> 180
A27: 5 | B27: - ชุดคอมพิวเตอร์เดิม (เคลื่อนย้าย-จัดเก็บ) | C27: 4 | D27: ชุด | E27: 0 | F27: =E27*C27 -> 0 | G27: 60 | H27: =G27*C27 -> 240 | I27: =H27+F27 -> 240
A28: 6 | B28: - ชุดโซฟา (รื้อขนกองเก็บ) | C28: 1 | D28: ชุด | E28: 0 | F28: =E28*C28 -> 0 | G28: 60 | H28: =G28*C28 -> 60 | I28: =H28+F28 -> 60
A29: 7 | B29: - ผนังตกเเต่งเดิม (รื้อขนไป) | C29: 2 | D29: ชุด | E29: 0 | F29: =E29*C29 -> 0 | G29: =(6*3)*30 -> 540 | H29: =G29*C29 -> 1080 | I29: =H29+F29 -> 1080
A30: 8 | B30: - ชุดเคาน์เตอร์เดิม (รื้อขนกองเก็บ) | C30: 1 | D30: ชุด | E30: 0 | F30: 0 | G30: 220 | H30: =G30*C30 -> 220 | I30: =H30+F30 -> 220
A31: 9 | B31: - ชุดสุขภัณฑ์นั่งยอง (รื้อขนไป) | C31: 3 | D31: ชุด | E31: 0 | F31: =E31*C31 -> 0 | G31: 140 | H31: =G31*C31 -> 420 | I31: =H31+F31 -> 420
A32: 10 | B32: - สายฉีดชำระ (รื้อขนไป) | C32: 3 | D32: ชุด | E32: 0 | F32: =E32*C32 -> 0 | G32: 35 | H32: =G32*C32 -> 105 | I32: =H32+F32 -> 105
A33: 11 | B33: - อ่างน้ำหินขัด (รื้อขนไป) | C33: 3 | D33: ชุด | E33: 0 | F33: =E33*C33 -> 0 | G33: 50 | H33: =G33*C33 -> 150 | I33: =H33+F33 -> 150
A34: 12 | B34: - ก๊อกล้างพื้น (รื้อขนไป) | C34: 3 | D34: ชุด | E34: 0 | F34: =E34*C34 -> 0 | G34: 25 | H34: =G34*C34 -> 75 | I34: =H34+F34 -> 75
A35: 13 | B35: - ที่ใส่กระดาษชำระ (รื้อขนไป) | C35: 3 | D35: ชุด | E35: 0 | F35: =E35*C35 -> 0 | G35: 35 | H35: =G35*C35 -> 105 | I35: =H35+F35 -> 105
A36: 14 | B36: - ชุดอ่างล้างหน้าเเละก็อกน้ำ (รื้อขนไป) | C36: 4 | D36: ชุด | E36: 0 | F36: =E36*C36 -> 0 | G36: 250 | H36: =G36*C36 -> 1000 | I36: =H36+F36 -> 1000
A37: 15 | B37: - ชุดกระจก (รื้อขนไป) | C37: 4 | D37: ชุด | E37: 0 | F37: =E37*C37 -> 0 | G37: 30 | H37: =G37*C37 -> 120 | I37: =H37+F37 -> 120
A38: 16 | B38: - ชุดขาและกระจกบานเกล็ดเดิม Ex-W10 (รื้อขนไป) (ไม่รวมช่องที่ติดพัดลมดูดอากาศ) | C38: 2 | D38: ชุด | E38: 0 | F38: =E38*C38 -> 0 | G38: 100 | H38: =G38*C38 -> 200 | I38: =H38+F38 -> 200
A39: 17 | B39: - พื้นกระเบื้องยาง | C39: 486 | D39: ตร.ม. | E39: 0 | F39: =E39*C39 -> 0 | G39: 15 | H39: =G39*C39 -> 7290 | I39: =H39+F39 -> 7290
B40: ชั้น 3
A41: 1 | B41: - โต๊ะ (รื้อขนกองเก็บ) | C41: 51 | D41: ชุด | E41: 0 | F41: =E41*C41 -> 0 | G41: 60 | H41: =G41*C41 -> 3060 | I41: =H41+F41 -> 3060
...

Sheet งานครุภันฑ์
A1: ราคาหมวดครุภัณฑ์
A2: รายการประมาณราคาก่อสร้าง โครงการปรับปรุงพื้นที่ให้บริการ อาคาร 15 ศูนย์วิทยบริการ (หอสมุดกลาง) ชั้น 1-6
A3: เจ้าของอาคาร สำนักวิทยบริการและเทคโนโลยีสารสนเทศ มหาวิทยาลัยราชภัฏนครศรีธรรมราช
A4: สถานที่ก่อสร้าง อาคาร 15 ศูนย์วิทยบริการ (หอสมุดกลาง) มหาวิทยาลัยราชภัฏนครศรีธรรมราช
A5: ประมาณการเมื่อ วันที่ 21 มกราคม 2568
A7: ลำดับที่ | B7: รายการ | C7: จำนวน | D7: หน่วย | E7: ราคาวัสดุสิ่งของ | G7: ค่าแรงงาน | I7: ค่าวัสดุ | J7: หมายเหตุ
E8: ราคาต่อหน่วย | F8: จำนวนเงิน | G8: ราคาต่อหน่วย | H8: จำนวนเงิน | I8: และแรงงาน
B10: งานครุภัณฑ์
A11: 1 | B11: ครุภัณฑ์พื้นที่บริการ ชั้น 1-6
B12: - Furniture 1 เคาน์เตอร์บาร์มุมค้นหาหนังสือ (ชั้น 1-5) | C12: 5 | D12: ชุด | E12: 27500 | F12: =E12*C12 -> 137500 | G12: 0 | H12: =G12*C12 -> 0 | I12: =H12+F12 -> 137500
B13: - Furniture 2 ชั้นวางหนังสือ (ชั้น 4) | C13: 20 | D13: ชุด | E13: 10500 | F13: =E13*C13 -> 210000 | G13: 0 | H13: =G13*C13 -> 0 | I13: =H13+F13 -> 210000
B14: - โต๊ะประชุมทรงสี่เหลี่ยม 240 W (ชั้น 1-5) | C14: 10 | D14: ชุด | E14: =6667+1 -> 6668 | F14: =E14*C14 -> 66680 | G14: 0 | H14: =G14*C14 -> 0 | I14: =H14+F14 -> 66680
B15: - โต๊ะประชุมทรงสี่เหลี่ยม 150 W (ชั้น 2-4) | C15: 13 | D15: ชุด | E15: =6140 -> 6140 | F15: =E15*C15 -> 79820 | G15: 0 | H15: =G15*C15 -> 0 | I15: =H15+F15 -> 79820
B16: - โต๊ะนั่งอ่านหนังสือ
B17: - ท๊อปดำ (ชั้น 2-5) | C17: 25 | D17: ชุด | E17: =2959 -> 2959 | F17: =E17*C17 -> 73975 | G17: 0 | H17: =G17*C17 -> 0 | I17: =H17+F17 -> 73975
B18: - ท๊อปขาว (ชั้น 1-3) | C18: 17 | D18: ชุด | E18: =2959 -> 2959 | F18: =E18*C18 -> 50303 | G18: 0 | H18: =G18*C18 -> 0 | I18: =H18+F18 -> 50303
B19: - โต๊ะบาร์ (ชั้น 5) | C19: 8 | D19: ชุด | E19: 2418 | F19: =E19*C19 -> 19344 | G19: 0 | H19: 0 | I19: =H19+F19 -> 19344
B20: - โต๊ะทำงานกลุ่มตัวแอล 4 ที่นั่ง (ชั้น 5) | C20: 2 | D20: ชุด | E20: =22954 -> 22954 | F20: =E20*C20 -> 45908 | G20: 0 | H20: =G20*C20 -> 0 | I20: =H20+F20 -> 45908
B21: - โต๊ะประชุมพับเก็บได้ล้อเลื่อน (ชั้น 6) | C21: 24 | D21: ชุด | E21: =3928 -> 3928 | F21: =E21*C21 -> 94272 | G21: 0 | H21: =G21*C21 -> 0 | I21: =H21+F21 -> 94272
B22: - โต๊ะเจ้าหน้าที่ (ชั้น 6) | C22: 2 | D22: ชุด | E22: =2338 -> 2338 | F22: =E22*C22 -> 4676 | G22: 0 | H22: =G22*C22 -> 0 | I22: =H22+F22 -> 4676
B23: - บูธกั้นพื้นที่ส่วนตัว พร้อมแผ่น Top ไม้ (ชั้น 1) | C23: 2 | D23: ชุด | E23: =10877+5 -> 10882 | F23: =E23*C23 -> 21764 | G23: 0 | H23: =G23*C23 -> 0 | I23: =H23+F23 -> 21764
B24: - เก้าอี้สำนักงาน (ชั้น 1-6) | C24: 16 | D24: ชุด | E24: =2438 -> 2438 | F24: =E24*C24 -> 39008 | G24: 0 | H24: =G24*C24 -> 0 | I24: =H24+F24 -> 39008
B25: - เก้าอี้โมเดิร์นหนังเทียม (ชั้น 1) | C25: 24 | D25: ชุด | E25: =1308 -> 1308 | F25: =E25*C25 -> 31392 | G25: 0 | H25: =G25*C25 -> 0 | I25: =H25+F25 -> 31392
B26: - เก้าอี้โมเดิร์นพลาสติก (ชั้น 1-3) | C26: 18 | D26: ชุด | E26: =1404 -> 1404 | F26: =E26*C26 -> 25272 | G26: 0 | H26: =G26*C26 -> 0 | I26: =H26+F26 -> 25272
B27: - เก้าอี้โมเดิร์นพลาสติกทรงกลม (ชั้น 1) | C27: 4 | D27: ชุด | E27: =385 -> 385 | F27: =E27*C27 -> 1540 | G27: 0 | H27: =G27*C27 -> 0 | I27: =H27+F27 -> 1540
B28: - โซฟาบีนแบค (ชั้น 1-5) | C28: 25 | D28: ชุด | E28: =2295 -> 2295 | F28: =E28*C28 -> 57375 | G28: 0 | H28: =G28*C28 -> 0 | I28: =H28+F28 -> 57375
B29: - โซฟา แบบไม่มีที่วางแขน
B30: - โทนสี ส้มสด+น้ำตาลช็อกโกแลต (ชั้น 1) | C30: 4 | D30: ชุด | E30: =8333 -> 8333 | F30: =E30*C30 -> 33332 | G30: 0 | H30: =G30*C30 -> 0 | I30: =H30+F30 -> 33332
B31: - โทนสี เขียวอ่อน+น้ำตาลช็อกโกแลต (ชั้น 1,2,6) | C31: 11 | D31: ชุด | E31: =8333 -> 8333 | F31: =E31*C31 -> 91663 | G31: 0 | H31: =G31*C31 -> 0 | I31: =H31+F31 -> 91663
B32: - โต๊ะกลาง (ชั้น 1-5) | C32: 5 | D32: ชุด | E32: =4795 -> 4795 | F32: =E32*C32 -> 23975 | G32: 0 | H32: =G32*C32 -> 0 | I32: =H32+F32 -> 23975
B33: - เก้าอี้นั่งคอย 4 ที่นั่ง (ชั้น 2-6) | C33: 5 | D33: ชุด | E33: =4143 -> 4143 | F33: =E33*C33 -> 20715 | G33: 0 | H33: =G33*C33 -> 0 | I33: =H33+F33 -> 20715
B34: - ชุดโซฟาหนัง (ชั้น 1-5) | C34: 5 | D34: ชุด | E34: =43800 -> 43800 | F34: =E34*C34 -> 219000 | G34: 0 | H34: =G34*C34 -> 0 | I34: =H34+F34 -> 219000
B35: - เก้าอี้หมุน (ชั้น 1,2,3,5) | C35: 52 | D35: ชุด | E35: =1290+90.3 -> 1380.3 | F35: =E35*C35 -> 71775.6 | G35: 0 | H35: 0 | I35: =H35+F35 -> 71775.6
B36: - เก้าอี้นั่งอ่านหนังสือ (ชั้น 2-5) | C36: 76 | D36: ชุด | E36: =850+59.5 -> 909.5 | F36: =E36*C36 -> 69122 | G36: 0 | H36: 0 | I36: =H36+F36 -> 69122
B37: - เก้าอี้นั่งอ่านหนังสือ
B38: - สีดำ (ชั้น 2-5) | C38: 100 | D38: ชุด | E38: =369+25.83 -> 394.83 | F38: =E38*C38 -> 39483 | G38: 0 | H38: 0 | I38: =H38+F38 -> 39483
B39: - สีขาว (ชั้น 1,2,3,6) | C39: 116 | D39: ชุด | E39: =369+25.83 -> 394.83 | F39: =E39*C39 -> 45800.28 | G39: 0 | H39: 0 | I39: =H39+F39 -> 45800.28
B40: - โต๊ะพับญี่ปุ่น (ชั้น 1,2,3,5) | C40: 8 | D40: ชุด | E40: 150 | F40: =E40*C40 -> 1200 | G40: 0 | H40: =G40*C40 -> 0 | I40: =H40+F40 -> 1200
B41: - เบาะรองนั่งวงกลม ø 40 cm. หนา 2" หุ้มหนัง PVC
B42: - โทนสีส้ม (Built-7) | C42: 16 | D42: ชุด | E42: =320/1.07 -> 299.06542 | F42: =E42*C42 -> 4785.0467 | G42: 0 | H42: =G42*C42 -> 0 | I42: =H42+F42 -> 4785.0467
...

Sheet ที่มา
A1: พื้น | D1: ราคา | F1: ค่าแรง
A2: โครง | B2: 6 | C2: =378/3 -> 126 | D2: =B2*C2 -> 756 | E2: =D2*0.3 -> 226.8 | G2: =D2+E2 -> 982.8 | I2: 3ม/ท่อน
A3: แผ่นไม้ปิดปูพื้น | B3: 1 | C3: =(620/107)*100 -> 579.43925 | D3: =B3*C3 -> 579.43925 | E3: =D3*0.3 -> 173.83178 | G3: =D3+E3 -> 753.27103
D4: =SUM(D2:D3) -> 1335.4393 | E4: =SUM(E2:E3) -> 400.63178 | G4: =SUM(G2:G3) -> 1736.071
A5: ประตูทางเข้า
A6: โครง | B6: 7.5 | C6: 379 | D6: =B6*C6 -> 2842.5 | E6: 69 | F6: =E6*B6 -> 517.5 | G6: =D6+ F6 -> 3360
A7: ผิวลามิเนต | B7: 7.5 | C7: 343.05 | D7: =B7*C7 -> 2572.875 | E7: =50 -> 50 | F7: =E7*B7 -> 375 | G7: =D7+ F7 -> 2947.875
A8: ร่องแสตน | B8: 6 | C8: 261 | D8: =B8*C8 -> 1566 | E8: 10 | F8: =E8*B8 -> 60 | G8: =D8+ F8 -> 1626
A9: บัว | B9: 1.5 | C9: 158.66 | D9: =B9*C9 -> 237.99 | E9: 10 | F9: =E9*B9 -> 15 | G9: =D9+ F9 -> 252.99
D10: =SUM(D6:D9) -> 7219.365 | F10: =SUM(F6:F9) -> 967.5 | G10: =SUM(G6:G9) -> 8186.865
A12: ห้องข้างหน้า
A13: โครง | B13: 9.28 | C13: 379 | D13: =B13*C13 -> 3517.12 | E13: 69 | F13: =E13*B13 -> 640.32 | G13: =D13+ F13 -> 4157.44
A14: ผิวลามิเนต | B14: 9.28 | C14: =(343.05/107)*100 -> 320.60748 | D14: =B14*C14 -> 2975.2374 | E14: =50 -> 50 | F14: =E14*B14 -> 464 | G14: =D14+ F14 -> 3439.2374
A15: ร่องแสตน | B15: 11.5 | C15: 261 | D15: =B15*C15 -> 3001.5 | E15: 10 | F15: =E15*B15 -> 115 | G15: =D15+ F15 -> 3116.5
A16: บัว | B16: 6.55 | C16: 158.66 | D16: =B16*C16 -> 1039.223 | E16: 10 | F16: =E16*B16 -> 65.5 | G16: =D16+ F16 -> 1104.723
D17: =SUM(D13:D16) -> 10533.08 | F17: =SUM(F13:F16) -> 1284.82 | G17: =SUM(G13:G16) -> 11817.9
A19: ผนังโปรเจคเตอ
A20: โครง | B20: 17.5 | C20: 379 | D20: =B20*C20 -> 6632.5 | E20: 69 | F20: =E20*B20 -> 1207.5 | G20: =D20+ F20 -> 7840
A21: ผิวลามิเนต | B21: 17.5 | C21: =(343.05/107)*100 -> 320.60748 | D21: =B21*C21 -> 5610.6308 | E21: =50 -> 50 | F21: =E21*B21 -> 875 | G21: =D21+ F21 -> 6485.6308
A22: ร่องแสตน | B22: 18.2 | C22: 261 | D22: =B22*C22 -> 4750.2 | E22: 10 | F22: =E22*B22 -> 182 | G22: =D22+ F22 -> 4932.2
D23: =SUM(D20:D22) -> 16993.331 | F23: =SUM(F20:F22) -> 2264.5 | G23: =SUM(G20:G22) -> 19257.831
A25: ผนังหลังห้อง
A26: โครง | B26: 20.7 | C26: 379 | D26: =B26*C26 -> 7845.3 | E26: 69 | F26: =E26*B26 -> 1428.3 | G26: =D26+ F26 -> 9273.6
A27: ผิวลามิเนต | B27: 20.7 | C27: =(343.05/107)*100 -> 320.60748 | D27: =B27*C27 -> 6636.5748 | E27: =50 -> 50 | F27: =E27*B27 -> 1035 | G27: =D27+ F27 -> 7671.5748 | H27: ตรม
A28: ร่องแสตน | B28: 24.5 | C28: 261 | D28: =B28*C28 -> 6394.5 | E28: 10 | F28: =E28*B28 -> 245 | G28: =D28+ F28 -> 6639.5
A29: บัว | B29: 4.85 | C29: 158.66 | D29: =B29*C29 -> 769.501 | E29: 10 | F29: =E29*B29 -> 48.5 | G29: =D29+ F29 -> 818.001
A30: ประตู | B30: 1 | C30: =3600+1230+500 -> 5330 | D30: =B30*C30 -> 5330 | E30: 400 | F30: =E30*B30 -> 400 | G30: =D30+ F30 -> 5730
D31: =SUM(D26:D30) -> 26975.876 | F31: =SUM(F26:F30) -> 3156.8 | G31: =SUM(G26:G30) -> 30132.676
A33: โต๊ะประชุม
A34: โครง | B34: 18 | C34: =(42/107)*100 -> 39.252336 | D34: =B34*C34 -> 706.54206 | E34: =C34*0.3 -> 11.775701 | F34: =E34*B34 -> 211.96262 | G34: =D34+ F34 -> 918.50467 | H34: ไม้โครงเบญจพรรณ อบ จ๊อยท์ KP รุ่น KP 841 ขนาด 4 x 250 x 2.2 ซม. (แพ็ก 10 ชิ้น) สีธรรมชาติ
A35: แผ่นไม้ปิดปูพื้น | B35: 7 | C35: =(355/107)*100 -> 331.7757 | D35: =B35*C35 -> 2322.4299 | E35: =C35*0.3 -> 99.53271 | F35: =E35*B35 -> 696.72897 | G35: =D35+ F35 -> 3019.1589
A36: ผิวลามิเนต | B36: 7 | C36: =(988/107)*100 -> 923.36449 | D36: =B36*C36 -> 6463.5514 | E36: =50 -> 50 | F36: =E36*B36 -> 350 | G36: =D36+ F36 -> 6813.5514 | H36: 1แผ่น
A37: ร่องแสตน | B37: 2.7 | C37: 261 | D37: =B37*C37 -> 704.7 | E37: 10 | F37: =E37*B37 -> 27 | G37: =D37+ F37 -> 731.7 | H37: ร่องสแตนเลส 10 มม. 2.4 ม. สีเงินเงา
D38: =SUM(D34:D37) -> 10197.223 | F38: =SUM(F34:F37) -> 1285.6916 | G38: =SUM(G34:G37) -> 11482.915
A40: โต๊ะประธาน
A41: โครง | B41: 44 | C41: =(42/107)*100 -> 39.252336 | D41: =B41*C41 -> 1727.1028 | E41: =C41*0.3 -> 11.775701 | F41: =E41*B41 -> 518.13084 | G41: =D41+ F41 -> 2245.2336 | H41: ไม้โครงเบญจพรรณ อบ จ๊อยท์ KP รุ่น KP 841 ขนาด 4 x 250 x 2.2 ซม. (แพ็ก 10 ชิ้น) สีธรรมชาติ
A42: แผ่นไม้ปิดปูพื้น | B42: 20 | C42: =(355/107)*100 -> 331.7757 | D42: =B42*C42 -> 6635.514 | E42: =C42*0.3 -> 99.53271 | F42: =E42*B42 -> 1990.6542 | G42: =D42+ F42 -> 8626.1682
A43: ผิวลามิเนต | B43: 20 | C43: =(988/107)*100 -> 923.36449 | D43: =B43*C43 -> 18467.29 | E43: =50 -> 50 | F43: =E43*B43 -> 1000 | G43: =D43+ F43 -> 19467.29 | H43: 1แผ่น
A44: ร่องแสตน | B44: 12.25 | C44: 261 | D44: =B44*C44 -> 3197.25 | E44: 10 | F44: =E44*B44 -> 122.5 | G44: =D44+ F44 -> 3319.75 | H44: ร่องสแตนเลส 10 มม. 2.4 ม. สีเงินเงา
A45: บัว | B45: 9.75 | C45: 158.66 | D45: =B45*C45 -> 1546.935 | E45: 10 | F45: =E45*B45 -> 97.5 | G45: =D45+ F45 -> 1644.435
...
