Workbook

Sheet ปร5
A1: แบบสรุปราคากลางงานทาง สะพานและท่อเหลี่ยม
A2: =[1]ปร.4!A2 -> โครงการ ปรับปรุงผิวถนนภายในมหาวิทยาลัย
A3: =[1]ปร.4!A3 -> สถานที่ก่อสร้าง มหาวิทยาลัยราชภัฏนครศรีธรรมราช จังหวัดนครศรีธรรมราช
A4: =[1]ปร.4!A4 -> ประมาณราคา เมื่อวันที่ 22 เดือน มกราคม พ.ศ. 2568
A5: ประมาณราคากลางโดย งานอาคารสถานที่และภูมิทัศน์
A6: ลำดับ | B6: รายการ | F6: จำนวนเงิน | G6: FACTOR F | H6: รวมเป็นเงิน | I6: หมายเหตุ
A7: ที่ | F7: (บาท) | H7: (บาท)
A8: 1 | B8: ประเภทอาคาร | F8: 0
B9: และงานโครงสร้างคอนกรีตเสริมเหล็ก
A10: 2 | B10: ประเภทงานสาธารณูปโภค งานดิน | F10: =ปร.4!F34-ปร5!F15 -> 5265802.8 | G10: 1.3557 | H10: =F10*G10 -> 7138848.9
B11: และงานทาง
A12: 3 | B12: ประเภทงานสะพานและท่อเหลี่ยม | F12: 0
A13: 4 | B13: งานระบบไฟถนน | F13: 0 | H13: =F13 -> 0
A14: 5 | B14: อื่นๆ
B15: ชุดป้ายจราจรและไฟกระพริบพลังงานแสงอาทิตย์ | F15: 72000 | G15: 1.07 | H15: =F15*G15 -> 77040
B16: ภาษีมูลค่าเพิ่ม | D16: 7 | E16: %
B17: เงินล่วงหน้าจ่าย | D17: 0 | E17: %
B18: เงินประกันผลงานหัก | D18: 0 | E18: %
B19: ดอกเบี้ยเงินกู้ | D19: 7 | E19: %
A20: สรุป | B20: รวมค่าก่อสร้างเป็นเงินทั้งสิ้น | H20: =SUM(H10:H19) -> 7215888.9
B21: คิดเป็นราคากลาง | H21: =ROUNDDOWN(H20,-5) -> 7200000
B22: (ตัวอักษร) | C22: ="("&BAHTTEXT(H21)&")" -> (เจ็ดล้านสองแสนบาทถ้วน)
B25: ........................................................ | D25: ประธานกรรมการกำหนดราคากลาง | H25: วันที่ 22 มกราคม 2568
B26: ( นายวิชิต สุขทร )
B27: ........................................................ | D27: กรรมการกำหนดราคากลาง | H27: วันที่ 22 มกราคม 2568
B28: ( นายก่อกานต์ ประเสริฐ )
B29: ........................................................ | D29: กรรมการกำหนดราคากลาง | H29: วันที่ 22 มกราคม 2568
B30: ( นายเอกลักษณ์ กาญจนเพ็ญ )
B31: ........................................................ | D31: กรรมการกำหนดราคากลาง | H31: วันที่ 22 มกราคม 2568
B32: ( นายวิศรุต ช่วยจันทร์ )
B33: ........................................................ | D33: กรรมการและเลขานุการกำหนดราคากลาง | H33: วันที่ 22 มกราคม 2568
B34: ( นายอำพล ดวงฉิม )

Sheet ปร.4
A1: แบบสรุปราคากลางงานทาง สะพานและท่อเหลี่ยม
A2: โครงการ ปรับปรุงผิวถนนภายในมหาวิทยาลัย
A3: สถานที่ก่อสร้าง มหาวิทยาลัยราชภัฏนครศรีธรรมราช จังหวัดนครศรีธรรมราช
A4: ประมาณราคา เมื่อวันที่ 22 เดือน มกราคม พ.ศ. 2568
A5: ประมาณราคากลางโดย งานอาคารสถานที่และภูมิทัศน์
A6: ลำดับที่ | B6: รายการ | C6: จำนวน | D6: หน่วย | E6: ราคา/หน่วย | F6: ราคาทุน | G6: Factor F | H6: ราคาต่อหน่วย | I6: ราคากลาง | J6: หมายเหตุ
G7: (Fn) | H7: X Fn
A8: 1 | B8: ปรับปรุงผิวถนนสายที่ 1 ระยะทางจากประตู 1 -แยกอาคารสำนักงานอธิการบดี
B9: - งานทคโค๊ต (Tack Coat ) | C9: 7296 | D9: ตร.ม. | E9: 35.62 | F9: =SUM(C9*E9) -> 259883.52 | G9: 1.3557 | H9: =SUM(E9*G9) -> 48.290034 | I9: =SUM(C9*H9) -> 352324.09
B10: - งานปูผิวจราจรแอสฟัลท์ติกคอนกรีตหนา 4 ซม. | C10: 7296 | D10: ตร.ม. | E10: 292.04 | F10: =SUM(C10*E10) -> 2130723.8 | G10: 1.3557 | H10: =SUM(E10*G10) -> 395.91863 | I10: =SUM(C10*H10) -> 2888622.3
B11: - งานปรับปรุงยกระดับพื้นทางด้วยหินคลุก | C11: 10 | D11: ลบ.ม. | E11: 745.92 | F11: =SUM(C11*E11) -> 7459.2 | G11: 1.3557 | H11: =SUM(E11*G11) -> 1011.2437 | I11: =SUM(C11*H11) -> 10112.437
B12: - งานเส้นเครื่องหมายจราจร บนผิวถนน | C12: 485 | D12: ตร.ม. | E12: 288.64 | F12: =SUM(C12*E12) -> 139990.4 | G12: 1.3557 | H12: =SUM(E12*G12) -> 391.30925 | I12: =SUM(C12*H12) -> 189784.99
B13: - ติดตั้งชุดป้ายจราจรและไฟกระพริบพลังงานแสงอาทิตย์ | C13: 7 | D13: ตัว | E13: 4500 | F13: =SUM(C13*E13) -> 31500 | G13: 1.07 | H13: =SUM(E13*G13) -> 4815 | I13: =C13*H13 -> 33705 | J13: มาตรฐานทางหลวง
A15: 2 | B15: ปรับปรุงผิวถนนสายที่ 2 ระยะทางจาก แยกหน้าอาคา3 -อาคารคณะครุศาสตร์
B16: - งานทคโค๊ต (Tack Coat ) | C16: 1782 | D16: ตร.ม. | E16: 35.62 | F16: =SUM(C16*E16) -> 63474.84 | G16: 1.3557 | H16: =SUM(E16*G16) -> 48.290034 | I16: =SUM(C16*H16) -> 86052.841
B17: - งานปูผิวจราจรแอสฟัลท์ติกคอนกรีตหนา 4 ซม. | C17: 1782 | D17: ตร.ม. | E17: 292.04 | F17: =SUM(C17*E17) -> 520415.28 | G17: 1.3557 | H17: =SUM(E17*G17) -> 395.91863 | I17: =SUM(C17*H17) -> 705527
B18: - งานปรับปรุงยกระดับพื้นทางด้วยหินคลุก | C18: 10 | D18: ลบ.ม. | E18: 745.92 | F18: =SUM(C18*E18) -> 7459.2 | G18: 1.3557 | H18: =SUM(E18*G18) -> 1011.2437 | I18: =SUM(C18*H18) -> 10112.437
B19: - งานเส้นเครื่องหมายจราจร บนผิวถนน | C19: 70 | D19: ตร.ม. | E19: 288.64 | F19: =SUM(C19*E19) -> 20204.8 | G19: 1.3557 | H19: =SUM(E19*G19) -> 391.30925 | I19: =SUM(C19*H19) -> 27391.647
B20: - งานรื้อถอนต้นไม้และกะบะต้นไม้ | C20: 19 | D20: ต้น | E20: 700 | F20: =SUM(C20*E20) -> 13300 | G20: 1.3557 | H20: =SUM(E20*G20) -> 948.99 | I20: =SUM(C20*H20) -> 18030.81
B21: - ติดตั้งชุดป้ายจราจรและไฟกระพริบพลังงานแสงอาทิตย์ | C21: 1 | D21: ตัว | E21: 4500 | F21: =SUM(C21*E21) -> 4500 | G21: 1.07 | H21: =SUM(E21*G21) -> 4815 | I21: =SUM(C21*H21) -> 4815 | J21: มาตรฐานทางหลวง
A23: 3 | B23: ปรับปรุงผิวถนนสายที่ 3 ระยะทางจากแยกอาคาร 39-ทางออกประตู 3
B24: - งานทคโค๊ต (Tack Coat ) | C24: 3856 | D24: ตร.ม. | E24: 35.62 | F24: =SUM(C24*E24) -> 137350.72 | G24: 1.3557 | H24: =SUM(E24*G24) -> 48.290034 | I24: =SUM(C24*H24) -> 186206.37
B25: - งานปูผิวจราจรแอสฟัลท์ติกคอนกรีตหนา 4 ซม. | C25: 3856 | D25: ตร.ม. | E25: 292.04 | F25: =SUM(C25*E25) -> 1126106.2 | G25: 1.3557 | H25: =SUM(E25*G25) -> 395.91863 | I25: =SUM(C25*H25) -> 1526662.2
B26: - งานเส้นเครื่องหมายจราจร บนผิวถนน | C26: 420 | D26: ตร.ม. | E26: 288.64 | F26: =SUM(C26*E26) -> 121228.8 | G26: 1.3557 | H26: =SUM(E26*G26) -> 391.30925 | I26: =SUM(C26*H26) -> 164349.88
B27: - งานปรับปรุงสี่แยก | I27: =SUM(C27*H27) -> 0
B28: หล่อเกาะกลางถนน พร้อมทา สีขาว-ดำ | C28: 4 | D28: ตัว | E28: 2000 | F28: =SUM(C28*E28) -> 8000 | G28: 1.3557 | H28: =SUM(E28*G28) -> 2711.4 | I28: =SUM(C28*H28) -> 10845.6
B29: ติดตั้งชุดป้ายจราจรและไฟกระพริบพลังงานแสงอาทิตย์ | C29: 8 | D29: ตัว | E29: 4500 | F29: =SUM(C29*E29) -> 36000 | G29: 1.07 | H29: =SUM(E29*G29) -> 4815 | I29: =SUM(C29*H29) -> 38520 | J29: มาตรฐานทางหลวง
A30: 4 | B30: ปรับปรุงผิวถนนสายที่ 4
B31: - งานทคโค๊ต (Tack Coat ) | C31: 2100 | D31: ตร.ม. | E31: =SUM(E24) -> 35.62 | F31: =SUM(C31*E31) -> 74802 | G31: 1.3557 | H31: =SUM(E31*G31) -> 48.290034 | I31: =SUM(C31*H31) -> 101409.07
B32: - งานปูผิวจราจรแอสฟัลท์ติกคอนกรีตหนา 4 ซม. | C32: 2100 | D32: ตร.ม. | E32: =SUM(E25) -> 292.04 | F32: =SUM(C32*E32) -> 613284 | G32: 1.3557 | H32: =SUM(E32*G32) -> 395.91863 | I32: =SUM(C32*H32) -> 831429.12
B33: - งานเส้นเครื่องหมายจราจร บนผิวถนน | C33: 395 | D33: ตร.ม. | E33: 56 | F33: =SUM(C33*E33) -> 22120 | G33: 1.3557 | H33: =SUM(E33*G33) -> 75.9192 | I33: =SUM(C33*H33) -> 29988.084
B34: ราคางบประมาณ (บาท) | F34: =SUM(F9:F33) -> 5337802.8 | I34: =SUM(I9:I33) -> 7215888.9 | L34: =F34-ปร5!F15 -> 5265802.8
B35: คิดเป็นเงินงบประมาณ | I35: =ROUNDDOWN(I34,-5) -> 7200000
A36: หมายเหตุ 1) ประมาณราคาโดยอ้างอิงจากราคาเฉลี่ยวัสดุก่อสร้างจังหวัดนครศรีธรรมราช ณ เดือน ตุลาคม พ.ศ. 2567
B37: สำนักดัชนีเศรษฐกิจการค้า สำนักเศรษฐกิจการค้า สำนักปลัดกระทรวงพาณิชย์
B38: ราคาน้ำมันดีเซลประกาศหน้าปั้ม ปตท. ที่อำเภอเมือง 33.00-33.99 บาทต่อลิตร
B40: ........................................................ประธานกรรมการกำหนดราคากลาง | C40: วันที่ 22 มกราคม 2568
B41: ( นายวิชิต สุขทร )
B42: ........................................................กรรมการกำหนดราคากลาง | C42: วันที่ 22 มกราคม 2568
B43: ( นายก่อกานต์ ประเสริฐ )
B44: ........................................................กรรมการกำหนดราคากลาง | C44: วันที่ 22 มกราคม 2568
B45: ( นายเอกลักษณ์ กาญจนเพ็ญ )
B46: ........................................................กรรมการกำหนดราคากลาง | C46: วันที่ 22 มกราคม 2568
B47: ( นายวิศรุต ช่วยจันทร์ )
B48: ........................................................กรรมการและเลขานุการกำหนดราคากลาง | C48: วันที่ 22 มกราคม 2568
B49: ( นายอำพล ดวงฉิม )

Sheet รายละเอียดการคำนวณ
A1: รายละเอียดรายการคำนวณ
A2: 1. CLEARING AND GRUBBING (ขนาดเบา)
A3: พิจารณาตามสภาพพื้นที่
A4: ค่าดำเนินการ + ค่าเสื่อมราคาเครื่องจักร | J4: = | K4: 1.83 | L4: บาท/ตร.ม.
H5: ค่างานต้นทุนรวม | J5: = | K5: =ROUNDDOWN(K4,2) -> 1.83 | L5: บาท/ตร.ม.
A6: หมายเหตุ
A7: งานถางป่าขุดตอขนาดเบา | D7: มีเฉพาะการถากถางวัชพืชเท่านั้น
A8: งานถางป่าขุดตอขนาดกลาง | D8: มีการถากถางวัชพืชเท่านั้น และปาดหน้าดินเดิมออกด้วย
A9: งานถางป่าขุดตอขนาดหนัก | D9: มีการตัดโค่นต้นไม้ ขุดตอ ถากถางวัชพืชและปาดหน้าดินเดิมออก
A12: 2. งานตัด - ขึ้นรูปคันทาง
A13: ค่าดำเนินการ + ค่าเสื่อมราคาเครื่องจักร(ขุด - ตัด) | J13: = | K13: 22.8 | L13: บาท/ลบ.ม.
A14: ค่าดำเนินการ + ค่าเสื่อมราคาเครื่องจักร( ตัก) | J14: = | K14: 8.96 | L14: บาท/ลบ.ม.
A15: ค่าขนส่ง | B15: 1 | C15: กม. | J15: = | K15: 11.55 | L15: บาท/ลบ.ม.
A16: ค่าดำเนินการ + ค่าเสื่อมราคา (บดทับ) | J16: = | K16: 49.99 | L16: บาท/ลบ.ม.
A17: ค่างานต้นทุน | J17: = | K17: =ROUND(SUM(K13:K16),2) -> 93.3 | L17: บาท/ลบ.ม.
A20: 3. งานขุดรื้อบดทับคันทางเดิม
A21: ค่าดำเนินการ + ค่าเสื่อมราคาเครื่องจักร | D21: คิดที่ความหนา | E21: = | F21: 10 ซม.(ลูกรัง) | J21: = | K21: 11.77 | L21: บาท/ตร.ม.
D22: คิดที่ความหนา | E22: = | F22: 10 ซม. | H22: ค่างานต้นทุนรวม | J22: = | K22: =ROUNDDOWN(K21,2) -> 11.77 | L22: บาท/ตร.ม.
A25: 4. SELECTED MATERIAL "A" (ดินถม)
A26: ค่าวัสดุจากแหล่ง | J26: = | K26: 125 | M26: บาท/ลบ.ม.
A27: ค่าดำเนินการ + ค่าเสื่อมราคา (ขุด-ขน) | K27: 34.62 | M27: บาท/ลบ.ม.
A28: ค่าขนส่ง | B28: 1 | C28: กม. | J28: = | K28: 11.55 | M28: บาท/ลบ.ม.
A29: รวม | J29: = | K29: =ROUND(SUM(K26:K28),2) -> 171.17 | M29: บาท/ลบ.ม.
A30: ส่วนยุบตัว | B30: =K29 -> 171.17 | C30: X | D30: 1.6 | J30: = | L30: =ROUND(B30*D30,2) -> 273.87 | M30: บาท/ลบ.ม.
A31: ค่าดำเนินการ + ค่าเสื่อมราคา (บดทับ) | L31: 49.99 | M31: บาท/ลบ.ม.
H32: ค่างานต้นทุนรวม | L32: =ROUND(SUM(L30:L31),2) -> 323.86 | M32: บาท/ลบ.ม.
A35: 5. SOIL AGGREGATE SUBBASE (ลูกรัง)
A36: ค่าวัสดุจากแหล่ง | J36: = | K36: 130 | M36: บาท/ลบ.ม.
A37: ค่าดำเนินการ + ค่าเสื่อมราคา (ขุด-ขน) | K37: 34.62 | M37: บาท/ลบ.ม.
A38: ค่าขนส่ง | B38: 10 | C38: กม. | J38: = | K38: 38.2 | M38: บาท/ลบ.ม.
A39: รวม | J39: = | K39: =ROUND(SUM(K36:K38),2) -> 202.82 | M39: บาท/ลบ.ม.
A40: ส่วนยุบตัว | B40: =K39 -> 202.82 | C40: X | D40: 1.6 | J40: = | L40: =ROUND(B40*D40,2) -> 324.51 | M40: บาท/ลบ.ม.
A41: ค่าดำเนินการ + ค่าเสื่อมราคา (บดทับ) | L41: 59.99 | M41: บาท/ลบ.ม.
H42: ค่างานต้นทุนรวม | L42: =ROUND(SUM(L40:L41),2) -> 384.5 | M42: บาท/ลบ.ม.
A45: 6. CRUSHED ROCK SOIL AGGREGATE TYPE BASE (หินคลุก)
A46: ค่าวัสดุจากปากโม่ (รวมค่าตัก) | J46: = | K46: 250 | M46: บาท/ลบ.ม.
A47: ค่าขนส่ง | B47: 45 | C47: กม. | J47: = | K47: 165.76 | M47: บาท/ลบ.ม.
A48: รวม | J48: = | K48: =ROUND(SUM(K46:K47),2) -> 415.76 | M48: บาท/ลบ.ม.
A49: ส่วนยุบตัว | B49: =K48 -> 415.76 | C49: X | D49: 1.5 | J49: = | L49: =ROUND(B49*D49,2) -> 623.64 | M49: บาท/ลบ.ม.
A50: ค่าดำเนินการ + ค่าเสื่อมราคา (ผสม) | L50: 26.19 | M50: บาท/ลบ.ม.
A51: ค่าดำเนินการ + ค่าเสื่อมราคา (บดทับ) | L51: 96.09 | M51: บาท/ลบ.ม.
H52: ค่างานต้นทุนรวม | L52: =ROUND(SUM(L49:L51),2) -> 745.92 | M52: บาท/ลบ.ม.
A55: 7. PRIME COAT | C55: ลาดบนหินคลุก
A56: ค่ายาง CSS-1 | B56: 1 | C56: ลิตร @ | D56: 27.4 | E56: บาท | J56: = | K56: =D56 -> 27.4 | M56: บาท/ลิตร
A57: ค่าขนส่ง | B57: 160 | C57: กม. | D57: (บวกค่าขึ้น-ลง) | J57: = | K57: 0.39 | M57: บาท/ลิตร
H58: รวมค่ายาง+ค่าขนส่ง | J58: = | K58: =SUM(K56:K57) -> 27.79
A59: อัตรส่วน (1.0 ลาดบนหินคลุกหรือ 0.8 ลาดบนหินคลุกผสมซิเมนต์) | G59: ใช้ | H59: 1 | I59: ลิตร/ตร.ม. | J59: = | L59: =K58 -> 27.79 | M59: บาท/ตร.ม.
B60: หรือ 0.4 ลาดบนผิว Concrete)
A61: ค่าดำเนินการ + ค่าเสื่อมราคา | J61: = | L61: 7.83 | M61: บาท/ตร.ม.
H62: ค่างานต้นทุนรวม | J62: = | L62: =SUM(L59:L61) -> 35.62 | M62: บาท/ตร.ม.
A65: 8. ASPHAL CONCRETE WEARING COURSE | E65: 4 | F65: cm.Thick
A66: ปริมาณงาน MODIFIED ASPHAL + ASPHAL CONCRETE ทั้งโครงการ | J66: = | K66: 1800 | L66: ตัน
A67: ค่าขนส่งอุปกรณ์ (ตัน) | C67: 80 | D67: 45 | E67: กม.( | F67: 0 | G67: ) | J67: = | K67: =C67*F67/K66 -> 0 | L67: บาท/ตัน
A68: ค่าติดตั้งเครื่องผสม | C68: = | D68: 0 | E68: / | F68: =K66 -> 1800 | J68: = | K68: =D68/F68 -> 0 | L68: บาท/ตัน
A69: ค่ายาง AC | B69: 0.052 | C69: ตัน @ | D69: 26493.73 | J69: = | K69: =B69*D69 -> 1377.674 | L69: บาท/ตัน
A70: ค่าหิน | B70: 0.74 | C70: ลบ.ม. @ | D70: 515.76 | J70: = | K70: =B70*D70 -> 381.6624 | L70: บาท/ตัน
A71: ค่าดำเนินการ + ค่าเสื่อมผสมวัสดุแอสฟัลท์คอนกรีต | J71: = | K71: 419.75 | L71: บาท/ตัน
A72: ค่าขนส่ง | B72: 60 | C72: กม. | J72: = | K72: 118.4 | L72: บาท/ตัน
A73: ค่าดำเนินการ + ค่าเสื่อมปูลาดและบดทับหนา | F73: 4 | G73: ซม. | H73: 1 | I73: (พิมพ์ 1 = บนผิวไพร์โค้ด, พิมพ์ 2 = บนผิวแทคโค้ด)
A74: = | B74: 16.23 | C74: X | D74: 1 | E74: X | F74: 8.33 | J74: = | K74: =ROUND(B74*D74*F74,2) -> 135.2 | L74: บาท/ตัน
A75: ค่าใช้จ่ายรวม | J75: = | K75: =SUM(K67:K74) -> 2432.6864 | L75: บาท/ตัน
A76: ค่างานต้นทุน | B76: = | C76: =K75 -> 2432.6864 | D76: / | E76: 8.33 | J76: = | K76: =ROUND(C76/E76,2) -> 292.04 | L76: บาท/ตร.ม.
A79: 9. THERMOPLASTIC PAIN
A80: รายการ | E80: ข้อมูลการคำนวณ | I80: ราคาต่อหน่วย | L80: หมายเหตุ
E81: หน่วย | G81: จำนวน | I81: หน่วย | K81: เงิน | L81: (รายละเอียดการคำนวณ)
A82: 1. ค่าดำเนินการ
A83: 1.1 ค่าบริการเครื่องจักร | E83: บาท/วัน | G83: 5323.89 | I83: บาท/ตร.ม. | K83: =ROUNDDOWN(G83/600,2) -> 8.87 | L83: ทำงานได้ 600 ตร.ม./วัน
A84: 1.2 ค่าแรงงาน | E84: บาท/วัน | G84: 2180 | I84: บาท/ตร.ม. | K84: =ROUNDDOWN(G84/600,2) -> 3.63 | L84: ทำงานได้ 600 ตร.ม./วัน
A85: 1.3 ค่าทดสอบการสะท้อนแสง | I85: บาท/ตร.ม. | K85: 0
A86: รวมค่าดำเนินการ | E86: บาท/วัน | G86: =SUM(G83:G85) -> 7503.89 | I86: บาท/ตร.ม. | K86: =SUM(K83:K85) -> 12.5
A87: 2. ค่าวัสดุ
A88: คิดค่าขนส่ง (ระยะทางขนส่งวัสดุสี ThermoPlastic = | G88: 770 | I88: บาท/ตร.ม. | K88: =1.43*770/1000 -> 1.1011 | L88: =1.43*770/1000
A89: 2.1 ลูกแก้ว | I89: บาท/ตร.ม. | K89: =0.4*(59+K88+0.06) -> 24.06444 | L89: =0.4*(59+1.10+0.06)
A90: 2.2 วัสดุสี | I90: บาท/ตร.ม. | K90: =6*(40+K88+0.06) -> 246.9666 | L90: =6*(40+1.10+0.06)
A91: 2.3 ค่า Primer (กาวรองพื้น) | I91: บาท/ตร.ม. | K91: =1600/313.11 -> 5.1100252 | L91: =1,600/80
A92: รวมค่าวัสดุตีเส้น | E92: ตร.ม. | I92: บาท/ตร.ม. | K92: =SUM(K89:K91) -> 276.14107
A93: 3. ค่าดำเนินการ รวมค่าวัสดุ (1+2) | K93: =ROUND(K86+K92,2) -> 288.64 | L93: บาท/ตร.ม.
A94: ค่างานต้นทุน | K94: =K93 -> 288.64 | L94: บาท/ตร.ม.
